BEGIN:VCALENDAR
VERSION:2.0
PRODID:-//ChamberMaster//Event Calendar 2.0//EN
METHOD:PUBLISH
X-PUBLISHED-TTL:P3D
REFRESH-INTERVAL:P3D
CALSCALE:GREGORIAN
BEGIN:VEVENT
DTSTART:20160810T163000Z
DTEND:20160810T180000Z
X-MICROSOFT-CDO-ALLDAYEVENT:FALSE
SUMMARY:Community Summit
DESCRIPTION:Presentation to General Membership/Community\n\n\n\nAUGUST 10TH | 11:30 - 1:00 PM\n\nRSVP: spacc@saukprairie.com\n\n\n\nPLEASE JOIN US IN CONVERSATION AS SCHOOL DISTRICT LEADERS SHARE STRATEGIC PLAN FOR FACILITIES & FIELD SPACE\n\n\n\nLunch will be provided
X-ALT-DESC;FMTTYPE=text/html:Presentation to General&nbsp\;Membership/Community<br />\n<br />\nAUGUST 10TH | 11:30 - 1:00 PM<br />\nRSVP: spacc@saukprairie.com<br />\n<br />\nPLEASE JOIN US IN CONVERSATION AS&nbsp\;SCHOOL DISTRICT LEADERS SHARE STRATEGIC&nbsp\;PLAN FOR FACILITIES &amp\; FIELD SPACE<br />\n<br />\nLunch will be provided
LOCATION:RIVER ARTS CENTER GALLERY
UID:e.1184.8835
SEQUENCE:3
DTSTAMP:20260425T205935Z
URL:http://members.saukprairie.com/events/details/community-summit-08-10-2016-8835
END:VEVENT

END:VCALENDAR
