BEGIN:VCALENDAR
VERSION:2.0
PRODID:-//ChamberMaster//Event Calendar 2.0//EN
METHOD:PUBLISH
X-PUBLISHED-TTL:P3D
REFRESH-INTERVAL:P3D
CALSCALE:GREGORIAN
BEGIN:VEVENT
DTSTART:20220524T190000Z
DTEND:20220524T200000Z
X-MICROSOFT-CDO-ALLDAYEVENT:FALSE
SUMMARY:Computers 101
DESCRIPTION:A class for absolute beginners. We'll review the basic parts of computers\, learn about the cloud\, and get connected to the internet. Bring your own device or borrow a laptop from us (a limited number are available). Registration is required. Call 608-643-8346 or visit the library to sign up. Future topics include Your Digital Library and Canva.
X-ALT-DESC;FMTTYPE=text/html:A class for absolute beginners. We&#39\;ll review the basic parts of computers\, learn about the cloud\, and get connected to the internet. Bring your own device or borrow a laptop from us (a limited number are available). Registration is required. Call 608-643-8346 or visit the library to sign up. Future topics include Your Digital Library and Canva.&nbsp\;
LOCATION:615 Phillips Blvd. Sauk City\, WI 53583
UID:e.1184.27617
SEQUENCE:3
DTSTAMP:20260421T115704Z
URL:http://members.saukprairie.com/events/details/computers-101-27617
END:VEVENT

END:VCALENDAR
