BEGIN:VCALENDAR
VERSION:2.0
PRODID:-//ChamberMaster//Event Calendar 2.0//EN
METHOD:PUBLISH
X-PUBLISHED-TTL:P3D
REFRESH-INTERVAL:P3D
CALSCALE:GREGORIAN
BEGIN:VEVENT
DTSTART:20220507T160000Z
DTEND:20220507T180000Z
X-MICROSOFT-CDO-ALLDAYEVENT:FALSE
SUMMARY:Concert for Kids feat. Fox & Branch
DESCRIPTION:Riverwalk Park Concert for Kids featuring:\n\nFox and Branch\n\nSaturday\, May 7th\, 2022 | 11am-1pm\nAt the Riverwalk Park and Overlook Amphitheater (near Ruth Culver Community Library) 490 Water St\, Prairie Du Sac\, WI 53578\n\nFree to attend\n\n\n\n \n\nEveryone has fun at a Fox and Branch show!  That has been the duo's guiding principle for the past two decades\, especially since performing for children and parents became their main focus. Dave Fox and Will Branch strive to create a communal atmosphere of fun and high spirits wherever they play.\n\nBased in Milwaukee\, Wisconsin\, the nationally known duo has toured the Midwest\, the East Coast\, the South\, as well as Europe. They are the winners of five Parent's Choice Recommended Awards. Fox & Branch have appeared at The Winnipeg Folk Festival\; Symphony Space in New York City\; Cafe Lena in Saratoga Springs\, NY\; Club Passim in Boston\, MA\; and the Overture Center in Madison\, WI. They have been featured at many Midwest festivals and community events. The duo has brought their show to libraries in Brooklyn\, NY\; St. Louis\, MO\; Boston\, MA\; southern Louisiana\; northern Illinois and across Wisconsin. In 2017\, the duo toured Ireland\, England and Scotland.\n\nFox and Branch consider themselves to be working in the tradition of great family music performers like Pete Seeger\, Ella Jenkins and Bessie Jones. Audience members are invited to sing along\, to dance\, and to come onstage to try their hand at the washboard and other musical instruments. Anchored in American roots music\, a Fox and Branch show is as much a celebration of being together as it is a musical performance.
X-ALT-DESC;FMTTYPE=text/html:<p><strong>Riverwalk Park Concert for Kids featuring:</strong></p>\n\n<p><strong>Fox and Branch</strong></p>\n\n<p>Saturday\, May 7th\, 2022 | 11am-1pm</p>\nAt the Riverwalk Park and Overlook Amphitheater (near Ruth Culver Community Library) 490 Water St\, Prairie Du Sac\, WI 53578\n\n<p>Free to attend</p>\n\n<hr />\n<div>\n<div>&nbsp\;</div>\n\n<p>Everyone has fun at a Fox and Branch show!&nbsp\; That has been the duo&rsquo\;s guiding principle for the past two decades\, especially since performing for children and parents became their main focus. Dave Fox and Will Branch strive to create a communal atmosphere of fun and high spirits wherever they play.</p>\n\n<p>Based in Milwaukee\, Wisconsin\, the nationally known duo has toured the Midwest\, the East Coast\, the South\, as well as Europe. They are the winners of five Parent&rsquo\;s Choice Recommended Awards. Fox &amp\; Branch have appeared at The Winnipeg Folk Festival\; Symphony Space in New York City\; Cafe Lena in Saratoga Springs\, NY\; Club Passim in Boston\, MA\; and the Overture Center in Madison\, WI. They have been featured at many Midwest festivals and community events. The duo has brought their show to libraries in Brooklyn\, NY\; St. Louis\, MO\; Boston\, MA\; southern Louisiana\; northern Illinois and across Wisconsin. In 2017\, the duo toured Ireland\, England and Scotland.</p>\n\n<p>Fox and Branch consider themselves to be working in the tradition of great family music performers like Pete Seeger\, Ella Jenkins and Bessie Jones. Audience members are invited to sing along\, to dance\, and to come onstage to try their hand at the washboard and other musical instruments. Anchored in American roots music\, a Fox and Branch show is as much a celebration of being together as it is a musical performance.</p>\n</div>\n
LOCATION:At the Riverwalk Park and Overlook Amphitheater (near Ruth Culver Community Library) 490 Water St\, Prairie Du Sac\, WI 53578
UID:e.1184.27652
SEQUENCE:3
DTSTAMP:20260421T115946Z
URL:http://members.saukprairie.com/events/details/concert-for-kids-feat-fox-branch-27652
END:VEVENT

END:VCALENDAR
