BEGIN:VCALENDAR
VERSION:2.0
PRODID:-//ChamberMaster//Event Calendar 2.0//EN
METHOD:PUBLISH
X-PUBLISHED-TTL:P3D
REFRESH-INTERVAL:P3D
CALSCALE:GREGORIAN
BEGIN:VEVENT
DTSTART:20160718T223000Z
DTEND:20160719T010000Z
X-MICROSOFT-CDO-ALLDAYEVENT:FALSE
SUMMARY:Concerts at the Cave
DESCRIPTION:Enjoy a hillside cave concert by pop-rock trio of Gin\, Chocolate & Bottle Rockets. Must be 21 or older to purchase tickets and attend. Each ticket includes a complimentary glass of wine or a cocktail. No carry-in food or beverages. Food available for purchase by Woodshed & Vintage Brewing Co. Our wine garden has a limited number of tables and chairs. Please bring your lawn chair or blanket. Check-in begins at 5 pm and music begins at 5:30 pm. The Winery store and Distillery store will be open until 8 pm. The concert takes place rain or shine with indoor location for bad weather. No refunds available.
X-ALT-DESC;FMTTYPE=text/html:<span style="color: rgb(105\, 100\, 95)\; font-family: DINWeb\; font-size: 16px\; line-height: 24px\;">Enjoy a hillside cave concert by pop-rock trio of Gin\, Chocolate &amp\; Bottle Rockets. Must be 21 or older to purchase tickets and attend. Each ticket includes a complimentary glass of wine or a cocktail. No carry-in food or beverages. Food available for purchase by Woodshed &amp\; Vintage Brewing Co. Our wine garden has a limited number of tables and chairs. Please bring your lawn chair or blanket. Check-in begins at 5 pm and music begins at 5:30 pm. The Winery store and Distillery store will be open until 8 pm. The concert takes place rain or shine with indoor location for bad weather. No refunds available.</span>
LOCATION:Wollersheim Winery
UID:e.1184.8595
SEQUENCE:3
DTSTAMP:20260426T003244Z
URL:http://members.saukprairie.com/events/details/concerts-at-the-cave-07-18-2016-8595
END:VEVENT

END:VCALENDAR
