BEGIN:VCALENDAR
VERSION:2.0
PRODID:-//ChamberMaster//Event Calendar 2.0//EN
METHOD:PUBLISH
X-PUBLISHED-TTL:P3D
REFRESH-INTERVAL:P3D
CALSCALE:GREGORIAN
BEGIN:VEVENT
DTSTART:20190313T000000Z
DTEND:20190313T013000Z
X-MICROSOFT-CDO-ALLDAYEVENT:FALSE
SUMMARY:Conscious Communication
DESCRIPTION:Do you need to build understanding or agreement in your workplace\, project\, community or family? Do you feel challenged in discussing difficult topics or in giving feedback? Join this group to learn a simple communication process that can be applied in any situation. Based on Marshall Rosenberg's technique called Nonviolent Communication\, and on Words That Work in Business by Ike Lasater.
X-ALT-DESC;FMTTYPE=text/html:Do you need to build understanding or agreement in your workplace\, project\, community or family? Do you feel challenged in discussing difficult topics or in giving feedback? Join this group to learn a simple communication process that can be applied in any situation. Based on Marshall Rosenberg&rsquo\;s technique called Nonviolent Communication\, and on Words That Work in Business by Ike Lasater.
LOCATION:Free Congregation of Sauk City 307 Polk St Sauk City
UID:e.1184.22088
SEQUENCE:3
DTSTAMP:20260423T201419Z
URL:http://members.saukprairie.com/events/details/conscious-communication-22088
END:VEVENT

END:VCALENDAR
