BEGIN:VCALENDAR
VERSION:2.0
PRODID:-//ChamberMaster//Event Calendar 2.0//EN
METHOD:PUBLISH
X-PUBLISHED-TTL:P3D
REFRESH-INTERVAL:P3D
CALSCALE:GREGORIAN
BEGIN:VEVENT
DTSTART:20191109T200000Z
DTEND:20191110T030000Z
X-MICROSOFT-CDO-ALLDAYEVENT:FALSE
SUMMARY:Conserve Sauk Film Festival
DESCRIPTION:Join us this fall for the first ever Conserve Sauk Film Festival in Baraboo\, Wisconsin. Come in celebration of Sauk County's natural beauty through the viewings of both conservation inspired finalist films\, as well as prestigious feature-length films such as Little Big Farm. Anticipate opportunities to reflect through both facilitated discussions\, and the appearance of local organizations that will be present to share information about conservation efforts and opportunities for involvement. To learn more\, please visit us at https://www.conservesaukfilmfest.org/
X-ALT-DESC;FMTTYPE=text/html:Join us this fall for the first ever Conserve Sauk Film Festival in Baraboo\, Wisconsin. Come in celebration of Sauk County&#39\;s natural beauty through the viewings of both conservation inspired finalist films\, as well as prestigious feature-length films such as Little Big Farm. Anticipate opportunities to reflect through both facilitated discussions\, and the appearance of local organizations that will be present to share information about conservation efforts and opportunities for involvement. To learn more\, please visit us at https://www.conservesaukfilmfest.org/
LOCATION:UW-Platteville Baraboo Sauk County Campus 1006 Connie Rd. Baraboo\, WI 53913 USA
UID:e.1184.23610
SEQUENCE:3
DTSTAMP:20260423T083838Z
URL:http://members.saukprairie.com/events/details/conserve-sauk-film-festival-23610
END:VEVENT

END:VCALENDAR
