BEGIN:VCALENDAR
VERSION:2.0
PRODID:-//ChamberMaster//Event Calendar 2.0//EN
METHOD:PUBLISH
X-PUBLISHED-TTL:P3D
REFRESH-INTERVAL:P3D
CALSCALE:GREGORIAN
BEGIN:VEVENT
DTSTART:20211106T150000Z
DTEND:20211106T220000Z
X-MICROSOFT-CDO-ALLDAYEVENT:FALSE
SUMMARY:Conserve Sauk Film Festival
DESCRIPTION:Conserve Sauk Film Fest is designed to celebrate and educate our community around conservation issues & our relationship to the environment.\n\n\n\n\n\n\nAbout this event\n\n\n\nThrough this festival we will better understand and appreciate the natural beauty and resources of the area\, celebrate our conservation successes\, reflect upon our relationship to the environment\, address challenges that we face\, consider how we can be part of the solution\, and connect as a county and a community over our shared world. Our concept of community includes the land itself. As Aldo Leopold\, one of the many conservation figures to leave his mark on Sauk County\, said\, "We abuse land because we regard it as a commodity belonging to us. When we see land as a community to which we belong\, we may begin to use it with love and respect." We invite you to be a part of this project and celebrate the beauty and conservation legacy and future of Sauk County.\n\nFor a complete list of films and schedule of events\, please visit https://www.conservesaukfilmfest.org/. If you have any questions on this program\, please contact Justine Bula at (608) 355-4842 or email justine.bula@saukcountywi.gov
X-ALT-DESC;FMTTYPE=text/html:<div class="g-group l-lg-mar-bot-6 l-md-mar-bot-4  " style="margin: 0px 0px 30px\; padding: 0px\; font-size: 0px\; letter-spacing: 0px\; color: rgb(57\, 54\, 79)\; font-family: &quot\;Neue Plak&quot\;\, -apple-system\, BlinkMacSystemFont\, Roboto\, &quot\;Helvetica Neue&quot\;\, Helvetica\, Tahoma\, Arial\, sans-serif\;">\n<div class="g-cell g-cell-10-12 g-cell-md-1-1" style="margin: 0px\; padding: 0px 15px\; width: 560px\; box-sizing: border-box\; display: inline-block\; overflow: hidden\; vertical-align: top\; letter-spacing: 0.5px\; font-size: 0.933333rem\; line-height: 1.25rem\;">\n<div class="has-user-generated-content" style="margin: 0px\; padding: 0px\;">\n<div class="text-body-medium" data-automation="listing-event-description" style="margin: 0px\; padding: 0px\; font-size: 0.933333rem\; line-height: 1.25rem\;"><span style="font-weight: 700\; padding-top: 0px\;">Conserve Sauk Film Fest is designed to celebrate and educate our community around conservation issues &amp\; our relationship to the environment.</span></div>\n</div>\n</div>\n</div>\n\n<div class="g-group l-mar-bot-6 l-sm-mar-bot-4" style="margin: 0px 0px 30px\; padding: 0px\; font-size: 0px\; letter-spacing: 0px\; color: rgb(57\, 54\, 79)\; font-family: &quot\;Neue Plak&quot\;\, -apple-system\, BlinkMacSystemFont\, Roboto\, &quot\;Helvetica Neue&quot\;\, Helvetica\, Tahoma\, Arial\, sans-serif\;">\n<div class="structured-content g-cell g-cell-10-12 g-cell-md-1-1" style="margin: 0px\; padding: 0px 15px\; width: 560px\; box-sizing: border-box\; display: inline-block\; overflow: hidden\; vertical-align: top\; letter-spacing: 0.5px\; font-size: 0.933333rem\; line-height: 1.25rem\;">\n<h2 class="text-body-large hide-small" style="margin: 0px -0.25px 0px 0px\; padding: 0px\; font-weight: 600\; font-size: 1.2rem\; line-height: 1.5rem\; letter-spacing: 0.25px\;">About this event</h2>\n\n<div class="has-user-generated-content" data-automation="about-this-event-sc" style="margin: 0px\; padding: 0px\;">\n<div class="structured-content-rich-text structured-content__module l-align-left l-mar-vert-6 l-sm-mar-vert-4 text-body-medium" style="margin: 30px 0px\; padding: 0px\; font-size: 0.933333rem\; line-height: 1.25rem\; text-rendering: optimizelegibility\;">\n<p style="margin: 0px\; padding: 0px\; color: rgb(111\, 114\, 135)\; font-size: 16px\; line-height: 1.5rem\;">Through this festival we will better understand and appreciate the natural beauty and resources of the area\, celebrate our conservation successes\, reflect upon our relationship to the environment\, address challenges that we face\, consider how we can be part of the solution\, and connect as a county and a community over our shared world. Our concept of community includes the land itself. As Aldo Leopold\, one of the many conservation figures to leave his mark on Sauk County\, said\, &quot\;We abuse land because we regard it as a commodity belonging to us. When we see land as a community to which we belong\, we may begin to use it with love and respect.&quot\;&#8203\;We invite you to be a part of this project and celebrate the beauty and conservation legacy and future of Sauk County.</p>\n\n<p style="margin: 0px\; padding: 10px 0px 0px\; color: rgb(111\, 114\, 135)\; font-size: 16px\; line-height: 1.5rem\;">For a complete list of films and schedule of events\, please visit https://www.conservesaukfilmfest.org/. If you have any questions on this program\, please contact Justine Bula at (608) 355-4842 or email justine.bula@saukcountywi.gov</p>\n</div>\n</div>\n</div>\n</div>\n
LOCATION:UW-Platteville Baraboo Sauk County
UID:e.1184.26919
SEQUENCE:3
DTSTAMP:20260421T215634Z
URL:http://members.saukprairie.com/events/details/conserve-sauk-film-festival-26919
END:VEVENT

END:VCALENDAR
