BEGIN:VCALENDAR
VERSION:2.0
PRODID:-//ChamberMaster//Event Calendar 2.0//EN
METHOD:PUBLISH
X-PUBLISHED-TTL:P3D
REFRESH-INTERVAL:P3D
CALSCALE:GREGORIAN
BEGIN:VEVENT
DTSTART:20231104T150000Z
DTEND:20231104T220000Z
X-MICROSOFT-CDO-ALLDAYEVENT:FALSE
SUMMARY:Conserve Sauk Film Festival
DESCRIPTION:Join us for the 2023 Conserve Sauk Film Festival on Saturday\, November 4\, 2023\, at UW-Platteville Baraboo Sauk County in Baraboo\, Wisconsin (located at 1006 Connie Rd\, Baraboo\, WI 53913).\n\n \n\nThe film festival will kick off at 10:30am with the screening of the film\, Rise Up Again - Exploring Our Shared Humanity in Giese Lecture Hall\, Room A-104. We hope this film will inspire you to take action in making your home\, backyard\, and community a better place to live.\n\n \n\nA variety of conservation focused films will be screened at this event\, including several films produced locally and regionally. A film schedule is available to help you plan your visit. We will also have various guest speakers to present on topics featured in the films and facilitate discussions following the screening of the films.\n\n\n\nThere will be a lunch break from 12:30pm to 1:30pm. Attendees are encouraged to visit the Bluff View Caf  on campus and enjoy the view overlooking the City of Baraboo and the Baraboo Hills. During the lunch break\, local organizations will have information on display about their conservation efforts and opportunities for involvement.\n\n \n\nThis event is free and open to the public. Registration is appreciated but not required to attend.
X-ALT-DESC;FMTTYPE=text/html:<div class="g-group l-lg-mar-bot-6 l-md-mar-bot-4  " style="margin: 0px 0px 30px\; padding: 0px\; font-size: 0px\; letter-spacing: 0px\; color: rgb(57\, 54\, 79)\; font-family: &quot\;Neue Plak&quot\;\, -apple-system\, BlinkMacSystemFont\, Roboto\, &quot\;Helvetica Neue&quot\;\, Helvetica\, Tahoma\, Arial\, sans-serif\;">\n<div class="g-cell g-cell-10-12 g-cell-md-1-1" style="margin: 0px\; padding: 0px 15px\; width: 560px\; box-sizing: border-box\; display: inline-block\; overflow: hidden\; vertical-align: top\; letter-spacing: 0.5px\; font-size: 0.933333rem\; line-height: 1.25rem\;">\n<div class="has-user-generated-content" style="margin: 0px\; padding: 0px\;">\n<div class="text-body-medium" data-automation="listing-event-description" style="margin: 0px\; padding: 0px\; font-size: 0.933333rem\; line-height: 1.25rem\;">\n<p class="font_8 wixui-rich-text__text" style="background: transparent\; border: 0px\; outline: 0px\; padding: 0px\; vertical-align: baseline\; pointer-events: auto\; font-size: 20px\; line-height: 1.3em\; color: rgb(var(--color_14))\; margin-block: 0px\; margin: 0px\; text-align: center\;"><span class="wixui-rich-text__text" style="background: transparent\; border: 0px\; margin: 0px\; outline: 0px\; padding: 0px\; vertical-align: baseline\;"><span class="wixui-rich-text__text" style="background: transparent\; border: 0px\; margin: 0px\; outline: 0px\; padding: 0px\; vertical-align: baseline\; letter-spacing: 0.03em\;"><span class="wixui-rich-text__text" style="background: transparent\; border: 0px\; margin: 0px\; outline: 0px\; padding: 0px\; vertical-align: baseline\; font-family: avenir-lt-w01_35-light1475496\, avenir-lt-w05_35-light\, sans-serif\;"><span class="wixui-rich-text__text" style="background: transparent\; border: 0px\; margin: 0px\; outline: 0px\; padding: 0px\; vertical-align: baseline\; color: rgb(0\, 0\, 0)\;">Join us for the 2023 Conserve Sauk Film Festival on Saturday\, November 4\, 2023\, at UW-Platteville Baraboo Sauk County in Baraboo\, Wisconsin (located at 1006 Connie Rd\, Baraboo\, WI 53913).</span></span></span></span></p>\n\n<p class="font_8 wixui-rich-text__text" style="background: transparent\; border: 0px\; outline: 0px\; padding: 0px\; vertical-align: baseline\; pointer-events: auto\; font-size: 20px\; line-height: 1.3em\; color: rgb(var(--color_14))\; margin-block: 0px\; margin: 0px\; text-align: center\;"><span class="wixui-rich-text__text" style="background: transparent\; border: 0px\; margin: 0px\; outline: 0px\; padding: 0px\; vertical-align: baseline\;"><span class="wixui-rich-text__text" style="background: transparent\; border: 0px\; margin: 0px\; outline: 0px\; padding: 0px\; vertical-align: baseline\; letter-spacing: 0.03em\;"><span class="wixui-rich-text__text" style="background: transparent\; border: 0px\; margin: 0px\; outline: 0px\; padding: 0px\; vertical-align: baseline\; font-family: avenir-lt-w01_35-light1475496\, avenir-lt-w05_35-light\, sans-serif\;"><span class="wixui-rich-text__text" style="background: transparent\; border: 0px\; margin: 0px\; outline: 0px\; padding: 0px\; vertical-align: baseline\; color: rgb(0\, 0\, 0)\;">&#8203\;</span></span></span></span></p>\n\n<p class="font_8 wixui-rich-text__text" style="background: transparent\; border: 0px\; outline: 0px\; padding: 0px\; vertical-align: baseline\; pointer-events: auto\; font-size: 20px\; line-height: 1.3em\; color: rgb(var(--color_14))\; margin-block: 0px\; margin: 0px\; text-align: center\;"><span class="wixui-rich-text__text" style="background: transparent\; border: 0px\; margin: 0px\; outline: 0px\; padding: 0px\; vertical-align: baseline\;"><span class="wixui-rich-text__text" style="background: transparent\; border: 0px\; margin: 0px\; outline: 0px\; padding: 0px\; vertical-align: baseline\; letter-spacing: 0.03em\;"><span class="wixui-rich-text__text" style="background: transparent\; border: 0px\; margin: 0px\; outline: 0px\; padding: 0px\; vertical-align: baseline\; font-family: avenir-lt-w01_35-light1475496\, avenir-lt-w05_35-light\, sans-serif\;"><span class="wixui-rich-text__text" style="background: transparent\; border: 0px\; margin: 0px\; outline: 0px\; padding: 0px\; vertical-align: baseline\; color: rgb(0\, 0\, 0)\;">The film festival will kick off at 10:30am with the screening of the film\,&nbsp\;<span class="wixui-rich-text__text" style="background: transparent\; border: 0px\; margin: 0px\; outline: 0px\; padding: 0px\; vertical-align: baseline\; font-weight: bold\;"><span class="wixui-rich-text__text" style="background: transparent\; border: 0px\; margin: 0px\; outline: 0px\; padding: 0px\; vertical-align: baseline\; font-style: italic\;">Rise Up Again - Exploring Our Shared Humanity</span></span>&nbsp\;in Giese Lecture Hall\, Room A-104. We hope this film will inspire you to take action in making your home\, backyard\, and community a better place to live.</span></span></span></span></p>\n\n<p class="font_8 wixui-rich-text__text" style="background: transparent\; border: 0px\; outline: 0px\; padding: 0px\; vertical-align: baseline\; pointer-events: auto\; font-size: 15px\; line-height: 1.3em\; color: rgb(var(--color_14))\; margin-block: 0px\; margin: 0px\; text-align: center\;"><span class="inherit-font-size wixui-rich-text__text" style="background: transparent\; border: 0px\; margin: 0px\; outline: 0px\; padding: 0px\; vertical-align: baseline\; font-size: 20px\;">&#8203\;</span></p>\n\n<p class="font_8 wixui-rich-text__text" style="background: transparent\; border: 0px\; outline: 0px\; padding: 0px\; vertical-align: baseline\; pointer-events: auto\; font-size: 20px\; line-height: 1.3em\; color: rgb(var(--color_14))\; margin-block: 0px\; margin: 0px\; text-align: center\;"><span class="wixui-rich-text__text" style="background: transparent\; border: 0px\; margin: 0px\; outline: 0px\; padding: 0px\; vertical-align: baseline\;"><span class="wixui-rich-text__text" style="background: transparent\; border: 0px\; margin: 0px\; outline: 0px\; padding: 0px\; vertical-align: baseline\; letter-spacing: 0.03em\;"><span class="wixui-rich-text__text" style="background: transparent\; border: 0px\; margin: 0px\; outline: 0px\; padding: 0px\; vertical-align: baseline\; font-family: avenir-lt-w01_35-light1475496\, avenir-lt-w05_35-light\, sans-serif\;"><span class="wixui-rich-text__text" style="background: transparent\; border: 0px\; margin: 0px\; outline: 0px\; padding: 0px\; vertical-align: baseline\; color: rgb(0\, 0\, 0)\;">A variety of&nbsp\;<span class="wixui-rich-text__text" style="background: transparent\; border: 0px\; margin: 0px\; outline: 0px\; padding: 0px\; vertical-align: baseline\; text-decoration-line: underline\;"><a class="wixui-rich-text__text" href="https://www.conservesaukfilmfest.org/2023-films" style="background: transparent\; border: 0px\; margin: 0px\; outline: 0px\; padding: 0px\; vertical-align: baseline\; cursor: pointer\; text-decoration-line: none\; color: inherit\;" target="_blank">conservation focused films</a></span>&nbsp\;will be screened at this event\, including several films produced locally and regionally. A&nbsp\;<span class="wixui-rich-text__text" style="background: transparent\; border: 0px\; margin: 0px\; outline: 0px\; padding: 0px\; vertical-align: baseline\; text-decoration-line: underline\;"><a class="wixui-rich-text__text" href="https://www.conservesaukfilmfest.org/2023-schedule" style="background: transparent\; border: 0px\; margin: 0px\; outline: 0px\; padding: 0px\; vertical-align: baseline\; cursor: pointer\; text-decoration-line: none\; color: inherit\;" target="_blank">film schedule</a></span>&nbsp\;is available to help you plan your visit. We will also have various guest speakers to present on topics featured in the films and facilitate discussions following the screening of the films.</span></span></span></span></p>\n\n<p class="font_8 wixui-rich-text__text" style="background: transparent\; border: 0px\; outline: 0px\; padding: 0px\; vertical-align: baseline\; pointer-events: auto\; font-size: 20px\; line-height: 1.3em\; color: rgb(var(--color_14))\; margin-block: 0px\; margin: 0px\; text-align: center\;"><br class="wixui-rich-text__text" />\n<span class="wixui-rich-text__text" style="background: transparent\; border: 0px\; margin: 0px\; outline: 0px\; padding: 0px\; vertical-align: baseline\;"><span class="wixui-rich-text__text" style="background: transparent\; border: 0px\; margin: 0px\; outline: 0px\; padding: 0px\; vertical-align: baseline\; letter-spacing: 0.03em\;"><span class="wixui-rich-text__text" style="background: transparent\; border: 0px\; margin: 0px\; outline: 0px\; padding: 0px\; vertical-align: baseline\; font-family: avenir-lt-w01_35-light1475496\, avenir-lt-w05_35-light\, sans-serif\;"><span class="wixui-rich-text__text" style="background: transparent\; border: 0px\; margin: 0px\; outline: 0px\; padding: 0px\; vertical-align: baseline\; color: rgb(0\, 0\, 0)\;">There will be a lunch break from 12:30pm to 1:30pm. Attendees are encouraged to visit the Bluff View Caf&eacute\; on campus and enjoy the view overlooking the City of Baraboo and the Baraboo Hills. During the lunch break\, local organizations will have information on display about their conservation efforts and opportunities for involvement.</span></span></span></span></p>\n\n<p class="font_8 wixui-rich-text__text" style="background: transparent\; border: 0px\; outline: 0px\; padding: 0px\; vertical-align: baseline\; pointer-events: auto\; font-size: 20px\; line-height: 1.3em\; color: rgb(var(--color_14))\; margin-block: 0px\; margin: 0px\; text-align: center\;"><span class="inherit-font-size wixui-rich-text__text" style="background: transparent\; border: 0px\; margin: 0px\; outline: 0px\; padding: 0px\; vertical-align: baseline\;">&#8203\;</span></p>\n\n<p class="font_8 wixui-rich-text__text" style="background: transparent\; border: 0px\; outline: 0px\; padding: 0px\; vertical-align: baseline\; pointer-events: auto\; font-size: 20px\; line-height: 1.3em\; color: rgb(var(--color_14))\; margin-block: 0px\; margin: 0px\; text-align: center\;"><span class="wixui-rich-text__text" style="background: transparent\; border: 0px\; margin: 0px\; outline: 0px\; padding: 0px\; vertical-align: baseline\;"><span class="wixui-rich-text__text" style="background: transparent\; border: 0px\; margin: 0px\; outline: 0px\; padding: 0px\; vertical-align: baseline\; letter-spacing: 0.03em\;"><span class="wixui-rich-text__text" style="background: transparent\; border: 0px\; margin: 0px\; outline: 0px\; padding: 0px\; vertical-align: baseline\; font-family: avenir-lt-w01_35-light1475496\, avenir-lt-w05_35-light\, sans-serif\;"><span class="wixui-rich-text__text" style="background: transparent\; border: 0px\; margin: 0px\; outline: 0px\; padding: 0px\; vertical-align: baseline\; color: rgb(0\, 0\, 0)\;">This event is free and open to the public. Registration is appreciated but not required to attend.&nbsp\;</span></span></span></span></p>\n</div>\n</div>\n</div>\n</div>\n
LOCATION:UW-Platteville Baraboo Sauk County
UID:e.1184.31184
SEQUENCE:3
DTSTAMP:20260420T045158Z
URL:http://members.saukprairie.com/events/details/conserve-sauk-film-festival-31184
END:VEVENT

END:VCALENDAR
