BEGIN:VCALENDAR
VERSION:2.0
PRODID:-//ChamberMaster//Event Calendar 2.0//EN
METHOD:PUBLISH
X-PUBLISHED-TTL:P3D
REFRESH-INTERVAL:P3D
CALSCALE:GREGORIAN
BEGIN:VEVENT
DTSTART:20170804T180000Z
DTEND:20170804T200000Z
X-MICROSOFT-CDO-ALLDAYEVENT:FALSE
SUMMARY:Construction Zone
DESCRIPTION:Many different building materials will be available for children of all ages to construct with\, including LEGOs\, Magnatiles\, wooden blocks\, giant cardboard pieces\, and much more during our weekly Friday drop-in series.
X-ALT-DESC;FMTTYPE=text/html:<span style="background-color:transparent\; color:rgb(0\, 0\, 0)\; font-family:arial\; font-size:11pt">Many different building materials will be available for children of all ages to construct with\, including LEGOs\, Magnatiles\, wooden blocks\, giant cardboard pieces\, and much more during our weekly Friday drop-in series.</span>
LOCATION:515 Water Street Sauk City\, WI 53583 (608) 643-8346
UID:e.1184.11821
SEQUENCE:3
DTSTAMP:20260425T014316Z
URL:http://members.saukprairie.com/events/details/construction-zone-08-04-2017-11821
END:VEVENT

END:VCALENDAR
