BEGIN:VCALENDAR
VERSION:2.0
PRODID:-//ChamberMaster//Event Calendar 2.0//EN
METHOD:PUBLISH
X-PUBLISHED-TTL:P3D
REFRESH-INTERVAL:P3D
CALSCALE:GREGORIAN
BEGIN:VEVENT
DTSTART:20220430T140000Z
DTEND:20220430T170000Z
X-MICROSOFT-CDO-ALLDAYEVENT:FALSE
SUMMARY:Contactless FREE Medication Take Back Day
DESCRIPTION:Please protect our environment and our drinking water by disposing of your mediations properly\n\n\n\nCOVID PRECAUTIONS (Follow the instructions below)\n\n	In zip-lock baggie\, combine all pills (please discard/recycle all bottles)\, ointment/creams (discard boxes)\, powders\, liquids (keep in original container)\n	In another bag\, place any inhalers\, injectable medications and sharps containers\n	Drive up to Prairie Avenue/East Entrance (wear your mask please)\n	Place your baggies in box provided\n	Sharps containers will be available upon request
X-ALT-DESC;FMTTYPE=text/html:Please protect our environment and our drinking water by disposing of your mediations properly<br />\n<br />\nCOVID PRECAUTIONS (Follow the instructions below)\n<ul>\n	<li>In zip-lock baggie\, combine all pills (please discard/recycle all bottles)\, ointment/creams (discard boxes)\, powders\, liquids (keep in original container)</li>\n	<li>In another bag\, place any inhalers\, injectable medications and sharps containers</li>\n	<li>Drive up to Prairie Avenue/East Entrance (wear your mask please)</li>\n	<li>Place your baggies in box provided</li>\n	<li>Sharps containers will be available upon request</li>\n</ul>\n
LOCATION:Wellspring 90 Oak Street Prairie du Sac\, WI 53578 (Drive thru at Prairie Avenue/East Entrance)
UID:e.1184.27187
SEQUENCE:3
DTSTAMP:20260421T133829Z
URL:http://members.saukprairie.com/events/details/contactless-free-medication-take-back-day-27187
END:VEVENT

END:VCALENDAR
