BEGIN:VCALENDAR
VERSION:2.0
PRODID:-//ChamberMaster//Event Calendar 2.0//EN
METHOD:PUBLISH
X-PUBLISHED-TTL:P3D
REFRESH-INTERVAL:P3D
CALSCALE:GREGORIAN
BEGIN:VEVENT
DTSTART:20200128T003000Z
DTEND:20200128T013000Z
X-MICROSOFT-CDO-ALLDAYEVENT:FALSE
SUMMARY:Cookbook Club
DESCRIPTION:This Month's Pick: The Complete Cooking for Two Cookbook by America's Test Kitchen\n\nWhat's involved?\n\n  Pick up one of the cookbooks at the library\n\n  Sign-up for a dish at the desk or online with the link below*\n\n  Share your dish at our monthly meeting potluck-style\n\n  With so much food\, invite friends and family along!\n\n  If you have any questions\, contact Jill or call 608-643-8346.\n\n*Link to Google Drive Sign-up:\n\n https://docs.google.com/spreadsheets/d/120awhz5179nad7XVI_74QBYsreFOsnn5u_zUYqtD4Ps/edit?ts=5db89ae6#gid=2108120491
X-ALT-DESC;FMTTYPE=text/html:<p>This Month&rsquo\;s Pick: <em>The Complete Cooking for Two Cookbook</em>&nbsp\;by America&#39\;s Test Kitchen</p>\n\n<p>What&rsquo\;s involved?</p>\n\n<p>&ndash\; Pick up one of the cookbooks at the library<br />\n&ndash\; Sign-up for a dish at the desk or online with the link below*<br />\n&ndash\; Share your dish at our monthly meeting potluck-style<br />\n&ndash\; With so much food\, invite friends and family along!<br />\n&ndash\; If you have any questions\, contact Jill or call 608-643-8346.</p>\n\n<p>*Link to Google Drive Sign-up:<br />\n&nbsp\;<a href="https://docs.google.com/spreadsheets/d/120awhz5179nad7XVI_74QBYsreFOsnn5u_zUYqtD4Ps/edit?ts=5db89ae6#gid=2108120491" style="margin: 0px\; padding: 0px\; border: 0px\; font-variant-numeric: inherit\; font-variant-east-asian: inherit\; font-weight: bold\; font-stretch: inherit\; font-size: 12.8px\; line-height: inherit\; font-family: &quot\;Helvetica Neue&quot\;\, Arial\, Helvetica\, &quot\;Nimbus Sans L&quot\;\, sans-serif\; vertical-align: baseline\; color: rgb(255\, 153\, 51)\; outline: 0px\; text-decoration-line: none\;">https://docs.google.com/spreadsheets/d/120awhz5179nad7XVI_74QBYsreFOsnn5u_zUYqtD4Ps/edit?ts=5db89ae6#gid=2108120491</a></p>\n
LOCATION:515 Water Street Sauk City\, WI 53555
UID:e.1184.23869
SEQUENCE:3
DTSTAMP:20260423T053910Z
URL:http://members.saukprairie.com/events/details/cookbook-club-01-27-2020-23869
END:VEVENT

END:VCALENDAR
