BEGIN:VCALENDAR
VERSION:2.0
PRODID:-//ChamberMaster//Event Calendar 2.0//EN
METHOD:PUBLISH
X-PUBLISHED-TTL:P3D
REFRESH-INTERVAL:P3D
CALSCALE:GREGORIAN
BEGIN:VEVENT
DTSTART:20170828T233000Z
DTEND:20170829T003000Z
X-MICROSOFT-CDO-ALLDAYEVENT:FALSE
SUMMARY:Cookbook Club
DESCRIPTION:June's Pick: Wisconsin Supper Club Cookbook\n\nJuly's Pick: Joy of Cooking\n\nAugust's Pick : TBA\n\nWhat's involved?\n\n\n	Pick up the cookbook at the library\n	Sign-up for a dish slot at the desk or online here\n	Share your dish at our monthly meeting potluck-style\n	With so much food\, invite friends and family along!\n\n\nIf you have any questions\, contact Katrina at katrina@saukcitylibrary.org or call 608-643-8346.
X-ALT-DESC;FMTTYPE=text/html:<p style="text-align:start">June&#39\;s Pick: Wisconsin Supper Club Cookbook<br />\nJuly&#39\;s Pick:<em>&nbsp\;Joy of Cooking</em><br />\nAugust&#39\;s Pick : TBA</p>\n\n<p style="text-align:start">What&rsquo\;s involved?</p>\n\n<ul>\n	<li>Pick up the cookbook at the library</li>\n	<li>Sign-up for a dish slot at the desk or <a href="https://docs.google.com/spreadsheets/d/1oYn0CGpc9ZmFCNQxZgBtVV_POjhUNOxjhXLcQq4f1T8/edit?usp=sharing">online here</a></li>\n	<li>Share your dish at our monthly meeting potluck-style</li>\n	<li>With so much food\, invite friends and family along!</li>\n</ul>\n\n<p style="text-align:start">If you have any questions\, contact Katrina at katrina@saukcitylibrary.org or call 608-643-8346.</p>\n
LOCATION:515 Water Street Sauk City\, WI 53583
UID:e.1184.11759
SEQUENCE:3
DTSTAMP:20260425T014721Z
URL:http://members.saukprairie.com/events/details/cookbook-club-08-28-2017-11759
END:VEVENT

END:VCALENDAR
