BEGIN:VCALENDAR
VERSION:2.0
PRODID:-//ChamberMaster//Event Calendar 2.0//EN
METHOD:PUBLISH
X-PUBLISHED-TTL:P3D
REFRESH-INTERVAL:P3D
CALSCALE:GREGORIAN
BEGIN:VEVENT
DTSTART:20181029T233000Z
DTEND:20181030T003000Z
X-MICROSOFT-CDO-ALLDAYEVENT:FALSE
SUMMARY:Cookbook Club
DESCRIPTION:October's Pick: Make it Ahead by Ina Gartner\n\nWhat's involved?\n\n  Pick up the cookbook at the library\n\n  Sign-up for a dish slot at the desk or online with the link below*\n\n  Share your dish at our monthly meeting potluck-style\n\n  With so much food\, invite friends and family along!\n\n  If you have any questions\, contact Jill at jill@saukcitylibrary.org or call us at 608-643-8346.\n\n*Link to Google Drive Sign-up: https://docs.google.com/spreadsheets/d/1oYn0CGpc9ZmFCNQxZgBtVV_POjhUNOxjhXLcQq4f1T8/edit?usp=sharing
X-ALT-DESC;FMTTYPE=text/html:<p>October&rsquo\;s Pick: <em>Make it Ahead&nbsp\;</em>by Ina Gartner</p>\n\n<p>What&rsquo\;s involved?</p>\n\n<p>&ndash\; Pick up the cookbook at the library<br />\n&ndash\; Sign-up for a dish slot at the desk or online with the link below*<br />\n&ndash\; Share your dish at our monthly meeting potluck-style<br />\n&ndash\; With so much food\, invite friends and family along!<br />\n&ndash\; If you have any questions\, contact Jill at jill@saukcitylibrary.org or call us at 608-643-8346.</p>\n\n<p>*Link to Google Drive Sign-up: <a href="https://docs.google.com/spreadsheets/d/1oYn0CGpc9ZmFCNQxZgBtVV_POjhUNOxjhXLcQq4f1T8/edit?usp=sharing">https://docs.google.com/spreadsheets/d/1oYn0CGpc9ZmFCNQxZgBtVV_POjhUNOxjhXLcQq4f1T8/edit?usp=sharing</a></p>\n
LOCATION:
UID:e.1184.21334
SEQUENCE:3
DTSTAMP:20260424T051050Z
URL:http://members.saukprairie.com/events/details/cookbook-club-10-29-2018-21334
END:VEVENT

END:VCALENDAR
