BEGIN:VCALENDAR
VERSION:2.0
PRODID:-//ChamberMaster//Event Calendar 2.0//EN
METHOD:PUBLISH
X-PUBLISHED-TTL:P3D
REFRESH-INTERVAL:P3D
CALSCALE:GREGORIAN
BEGIN:VEVENT
DTSTART:20171114T003000Z
DTEND:20171114T013000Z
X-MICROSOFT-CDO-ALLDAYEVENT:FALSE
SUMMARY:Cookbook Club w/ Susan Holding
DESCRIPTION:November's Pick: The Little French Bakery Cookbook by Susan Holding\n\n~This is a special Cookbook Club! The author will be joining us during our meeting to share stories and answer question about her book.~\n\n\n\nWhat's involved?\n\n  Pick up the cookbook at the library\n\n  Sign-up for a dish slot at the desk or online with the link below*\n\n  Share your dish at our monthly meeting potluck-style\n\n  With so much food\, invite friends and family along!\n\n  If you have any questions\, contact Katrina at katrina@saukcitylibrary.org or call 608-643-8346.\n\n*Link to Google Drive Sign-up: https://docs.google.com/spreadsheets/d/1oYn0CGpc9ZmFCNQxZgBtVV_POjhUNOxjhXLcQq4f1T8/edit?usp=sharing
X-ALT-DESC;FMTTYPE=text/html:<p>November&rsquo\;s Pick: <em>The Little French Bakery Cookbook&nbsp\;</em>by&nbsp\;Susan Holding</p>\n\n<p>~This is a special Cookbook Club! The author will be joining us during our meeting to share stories and answer question about her book.~<br />\n<br />\nWhat&rsquo\;s involved?</p>\n\n<p>&ndash\; Pick up the cookbook at the library<br />\n&ndash\; Sign-up for a dish slot at the desk or online with the link below*<br />\n&ndash\; Share your dish at our monthly meeting potluck-style<br />\n&ndash\; With so much food\, invite friends and family along!<br />\n&ndash\; If you have any questions\, contact Katrina at katrina@saukcitylibrary.org or call 608-643-8346.</p>\n\n<p>*Link to Google Drive Sign-up: https://docs.google.com/spreadsheets/d/1oYn0CGpc9ZmFCNQxZgBtVV_POjhUNOxjhXLcQq4f1T8/edit?usp=sharing</p>\n
LOCATION:515 Water Street Sauk City\, WI 53583
UID:e.1184.12942
SEQUENCE:3
DTSTAMP:20260424T205433Z
URL:http://members.saukprairie.com/events/details/cookbook-club-11-13-2017-12942
END:VEVENT

END:VCALENDAR
