BEGIN:VCALENDAR
VERSION:2.0
PRODID:-//ChamberMaster//Event Calendar 2.0//EN
METHOD:PUBLISH
X-PUBLISHED-TTL:P3D
REFRESH-INTERVAL:P3D
CALSCALE:GREGORIAN
BEGIN:VEVENT
DTSTART:20191126T003000Z
DTEND:20191126T013000Z
X-MICROSOFT-CDO-ALLDAYEVENT:FALSE
SUMMARY:Cookbook Club
DESCRIPTION:This Month's Club: Friendsgiving\n\nWhat's involved?\n\n  No cookbook this month. Pick out a favorite holiday recipe or one you'd like to try.\n\n  Sign-up for a dish at the desk or online with the link below*\n\n  Share your dish at our monthly meeting potluck-style.\n\n  Bring along copies of your recipe to share.\n\n  With so much food\, invite friends and family along!\n\n  If you have any questions\, contact Jill or call 608-643-8346.\n\n*Link to Google Drive Sign-up: https://docs.google.com/spreadsheets/d/120awhz5179nad7XVI_74QBYsreFOsnn5u_zUYqtD4Ps/edit?ts=5db89ae6#gid=2108120491
X-ALT-DESC;FMTTYPE=text/html:<p>This Month&rsquo\;s Club: Friendsgiving</p>\n\n<p>What&rsquo\;s involved?</p>\n\n<p>&ndash\; No cookbook this month. Pick out a favorite holiday recipe or one you&#39\;d like to try.<br />\n&ndash\; Sign-up for a dish at the desk or online with the link below*<br />\n&ndash\; Share your dish at our monthly meeting potluck-style.<br />\n<span style="background-color:rgb(255\, 255\, 255)\; color:rgb(51\, 51\, 51)\; font-family:sans-serif\,arial\,verdana\,trebuchet ms\; font-size:13px">&ndash\; Bring along copies of your recipe to share.</span><br />\n&ndash\; With so much food\, invite friends and family along!<br />\n&ndash\; If you have any questions\, contact Jill or call 608-643-8346.</p>\n\n<p>*Link to Google Drive Sign-up: <a href="https://docs.google.com/spreadsheets/d/120awhz5179nad7XVI_74QBYsreFOsnn5u_zUYqtD4Ps/edit?ts=5db89ae6#gid=2108120491" id="LPlnk692664" rel="noopener noreferrer" style="margin: 0px\; padding: 0px\; border: 0px\; font-style: normal\; font-variant-ligatures: normal\; font-variant-caps: normal\; font-variant-numeric: inherit\; font-variant-east-asian: inherit\; font-weight: 400\; font-stretch: inherit\; font-size: 16px\; line-height: inherit\; font-family: Calibri\, Arial\, Helvetica\, sans-serif\; vertical-align: baseline\; outline: 0px\; letter-spacing: normal\; orphans: 2\; text-align: start\; text-indent: 0px\; text-transform: none\; white-space: normal\; widows: 2\; word-spacing: 0px\; -webkit-text-stroke-width: 0px\; background-color: rgb(255\, 255\, 255)\;" target="_blank">https://docs.google.com/spreadsheets/d/120awhz5179nad7XVI_74QBYsreFOsnn5u_zUYqtD4Ps/edit?ts=5db89ae6#gid=2108120491</a></p>\n
LOCATION:515 Water Street Sauk City\, WI 53555
UID:e.1184.23625
SEQUENCE:3
DTSTAMP:20260423T091244Z
URL:http://members.saukprairie.com/events/details/cookbook-club-11-25-2019-23625
END:VEVENT

END:VCALENDAR
