BEGIN:VCALENDAR
VERSION:2.0
PRODID:-//ChamberMaster//Event Calendar 2.0//EN
METHOD:PUBLISH
X-PUBLISHED-TTL:P3D
REFRESH-INTERVAL:P3D
CALSCALE:GREGORIAN
BEGIN:VEVENT
DTSTART:20220617T000000Z
DTEND:20220617T020000Z
X-MICROSOFT-CDO-ALLDAYEVENT:FALSE
SUMMARY:Cool Front at Vintage Brewing Co.
DESCRIPTION:Cool Front is an electric guitar\, bass & drums trio based in Madison\, WI. We play hits by Stevie Ray Vaughan\, ZZ Top\, Tom Petty\, John Mayer\, and many more.
X-ALT-DESC;FMTTYPE=text/html:<div class="_63eu" style="box-sizing: border-box\; font-size: 14px\; max-height: 260px\; overflow: hidden\; padding: 12px\; overflow-wrap: break-word\; font-family: Helvetica\, Arial\, sans-serif\; color: rgb(29\, 33\, 41)\;">\n<div class="_63ew" data-testid="event-permalink-details" style="white-space: pre-wrap\; font-family: inherit\;"><span style="color: rgb(5\, 5\, 5)\; font-family: &quot\;Segoe UI Historic&quot\;\, &quot\;Segoe UI&quot\;\, Helvetica\, Arial\, sans-serif\; font-size: 15px\;">Cool Front is an electric guitar\, bass &amp\; drums trio based in Madison\, WI. We play hits by Stevie Ray Vaughan\, ZZ Top\, Tom Petty\, John Mayer\, and many more.</span></div>\n</div>\n
LOCATION:Vintage Brewing Co. 600 Water St. Sauk City\, WI 53583
UID:e.1184.27663
SEQUENCE:3
DTSTAMP:20260421T115753Z
URL:http://members.saukprairie.com/events/details/cool-front-at-vintage-brewing-co-27663
END:VEVENT

END:VCALENDAR
