BEGIN:VCALENDAR
VERSION:2.0
PRODID:-//ChamberMaster//Event Calendar 2.0//EN
METHOD:PUBLISH
X-PUBLISHED-TTL:P3D
REFRESH-INTERVAL:P3D
CALSCALE:GREGORIAN
BEGIN:VEVENT
DTSTART;VALUE=DATE:20190816
DTEND;VALUE=DATE:20190817
TRANSP:TRANSPARENT
X-MICROSOFT-CDO-ALLDAYEVENT:TRUE
SUMMARY:Cops on Rooftops
DESCRIPTION:Friday\, August 16 @ 7:00 am - 11:00 am    For the eighth year in a row\, law enforcement officers throughout the state will stake out Dunkin' Donuts rooftops to benefit Special Olympics Wisconsin. Police officers will be spread out across the state at various Dunkin' Donuts locations to heighten awareness and raise money for the Law Enforcement Torch Run  (LETR) for Special Olympics Wisconsin. In return for the police officers "doing time" at their restaurants\, Dunkin' Donuts will donate $5\,000 to the organization.  In addition\, each guest who visits a Cop on a Rooftop location that day and donates will receive a FREE medium hot or iced coffee coupon. Cops on a Rooftop will take place at all Dunkin' Donuts locations across the state.\n\n \n\nBenefits Special Olympics Wisconsin\n\n    \n\nHelp send athletes to state and national competitions\n\n    \n\nCome help us raise money for a great cause\n\n    \n\nCan't attend on the 16th? You can drop off your donation at any time!\n\n    \n\nAsk a Dunkin associate for more information
X-ALT-DESC;FMTTYPE=text/html:<strong><span style="color:windowtext\;"><span style="font-family:times new roman\,serif\;"><span style="font-size:13.5pt\;">Friday\, August 16 @ 7:00 am - 11:00 am&nbsp\;&nbsp\;&nbsp\; For the eighth year in a row\, law enforcement officers throughout the state will stake out Dunkin&rsquo\; Donuts rooftops to benefit Special Olympics Wisconsin. Police officers will be spread out across the state at various Dunkin&rsquo\; Donuts locations to heighten awareness and raise money for the Law Enforcement Torch Run&reg\; (LETR) for Special Olympics Wisconsin. In return for the police officers &ldquo\;doing time&rdquo\; at their restaurants\, Dunkin&rsquo\; Donuts will donate $5\,000 to the organization.&nbsp\; In addition\, each guest who visits a Cop on a Rooftop location that day and donates will receive a FREE medium hot or iced coffee coupon. Cops on a Rooftop will take place at all Dunkin&rsquo\; Donuts locations across the state.</span></span></span></strong><br />\n&nbsp\;\n<div style="border:solid #4B651C 1.0pt\;padding:31.0pt 12.0pt 31.0pt 12.0pt\;background:#4B651C\;margin-left:.2in\;margin-right:.2in\;">\n<h2 style="margin-top:0in\;margin-right:0in\;margin-bottom:10.0pt\;margin-left:0in\;background:#4B651C\;"><span style="color:#FFF0F5\;">Benefits Special Olympics Wisconsin</span></h2>\n\n<h2 style="margin-top:0in\;margin-right:0in\;margin-bottom:10.0pt\;margin-left:0in\;background:#4B651C\;"><span style="color:#FFF0F5\;">&#9472\;&#9472\;&#9472\;&#9472\;</span></h2>\n\n<h2 style="margin-top:0in\;margin-right:0in\;margin-bottom:10.0pt\;margin-left:0in\;background:#4B651C\;"><span style="color:#FFF0F5\;">Help send athletes to state and national competitions</span></h2>\n\n<h2 style="margin-top:0in\;margin-right:0in\;margin-bottom:10.0pt\;margin-left:0in\;background:#4B651C\;"><span style="color:#FFF0F5\;">&#9472\;&#9472\;&#9472\;&#9472\;</span></h2>\n\n<h2 style="margin-top:0in\;margin-right:0in\;margin-bottom:10.0pt\;margin-left:0in\;background:#4B651C\;"><span style="color:#FFF0F5\;">Come help us raise money for a great cause</span></h2>\n\n<h2 style="margin-top:0in\;margin-right:0in\;margin-bottom:10.0pt\;margin-left:0in\;background:#4B651C\;"><span style="color:#FFF0F5\;">&#9472\;&#9472\;&#9472\;&#9472\;</span></h2>\n\n<h2 style="margin-top:0in\;margin-right:0in\;margin-bottom:10.0pt\;margin-left:0in\;background:#4B651C\;"><span style="color:#FFF0F5\;">Can&rsquo\;t attend on the 16<sup>th</sup>? You can drop off your donation at any time!</span></h2>\n\n<h2 style="margin-top:0in\;margin-right:0in\;margin-bottom:10.0pt\;margin-left:0in\;background:#4B651C\;"><span style="color:#FFF0F5\;">&#9472\;&#9472\;&#9472\;&#9472\;</span></h2>\n\n<h2 style="margin-top:0in\;margin-right:0in\;margin-bottom:10.0pt\;margin-left:0in\;background:#4B651C\;"><span style="color:#FFF0F5\;">Ask a Dunkin associate for more information</span></h2>\n</div>\n
LOCATION:Dunkin Donuts 410 Phillips Blvd. Sauk City
UID:e.1184.22750
SEQUENCE:3
DTSTAMP:20260423T124108Z
URL:http://members.saukprairie.com/events/details/cops-on-rooftops-22750
END:VEVENT

END:VCALENDAR
