BEGIN:VCALENDAR
VERSION:2.0
PRODID:-//ChamberMaster//Event Calendar 2.0//EN
METHOD:PUBLISH
X-PUBLISHED-TTL:P3D
REFRESH-INTERVAL:P3D
CALSCALE:GREGORIAN
BEGIN:VEVENT
DTSTART:20170901T000000Z
DTEND:20170901T020000Z
X-MICROSOFT-CDO-ALLDAYEVENT:FALSE
SUMMARY:Corey Hart at the Woodshed Ale House
DESCRIPTION:http://www.coreyhartmusic.com/
X-ALT-DESC;FMTTYPE=text/html:<a href="http://www.coreyhartmusic.com/" rel="nofollow noopener nofollow" style="color: rgb(54\, 88\, 153)\; cursor: pointer\; text-decoration-line: none\; font-family: Helvetica\, Arial\, sans-serif\; font-size: 14px\;" target="_blank"><span style="font-family: inherit\;">http://</span><wbr />www.coreyhartmusic.com/</a>
LOCATION:Woodshed Ale House 101 Jackson Street
UID:e.1184.11809
SEQUENCE:3
DTSTAMP:20260425T014802Z
URL:http://members.saukprairie.com/events/details/corey-hart-at-the-woodshed-ale-house-11809
END:VEVENT

END:VCALENDAR
