BEGIN:VCALENDAR
VERSION:2.0
PRODID:-//ChamberMaster//Event Calendar 2.0//EN
METHOD:PUBLISH
X-PUBLISHED-TTL:P3D
REFRESH-INTERVAL:P3D
CALSCALE:GREGORIAN
BEGIN:VEVENT
DTSTART:20181012T010000Z
DTEND:20181012T030000Z
X-MICROSOFT-CDO-ALLDAYEVENT:FALSE
SUMMARY:Corey Hart at Vintage Brewing Co.
DESCRIPTION:Corey Hart will be performing at Vintage Brewing Co.      \n\n\n\nhttps://www.facebook.com/events/260953724507454/?active_tab=about
X-ALT-DESC;FMTTYPE=text/html:Corey Hart will be performing at Vintage Brewing Co.&nbsp\; &nbsp\; &nbsp\;&nbsp\;<br />\n<br />\nhttps://www.facebook.com/events/260953724507454/?active_tab=about&nbsp\;
LOCATION:Vintage Brewing Co. 600 Water Street Sauk City
UID:e.1184.21353
SEQUENCE:3
DTSTAMP:20260424T050736Z
URL:http://members.saukprairie.com/events/details/corey-hart-at-vintage-brewing-co-21353
END:VEVENT

END:VCALENDAR
