BEGIN:VCALENDAR
VERSION:2.0
PRODID:-//ChamberMaster//Event Calendar 2.0//EN
METHOD:PUBLISH
X-PUBLISHED-TTL:P3D
REFRESH-INTERVAL:P3D
CALSCALE:GREGORIAN
BEGIN:VEVENT
DTSTART:20160529T160000Z
DTEND:20160529T200000Z
X-MICROSOFT-CDO-ALLDAYEVENT:FALSE
SUMMARY:Corpus Christi Celebration
DESCRIPTION:The Corpus Christi Mass and Procession will be held on Sunday\, May 29 at 11:30 AM at Durward's Glen Retreat and Conference Center. \n\n \n\nThis is the 103rd year that the feast of Corpus Christi has been celebrated at Durward's Glen.  This traditional Catholic  Feast of Corpus Christi dates back to 1230 AD.  The mass will be celebrated at the outdoor Holy Family Altar by Fr. Pedro Escribano\, from Divine Mercy Parish.   \n\n \n\nMass will be followed by a Eucharistic procession.  The Eucharistic procession will start at the hilltop\, and include 4th degree Knights of Columbus (in full dress)\, flower girls\, candles\, incense\, local musicians\, flags\, the crucifix\, and the Blessed Sacrament carried under the decorative canopy. \n\n \n\nA picnic style lunch of brats\, hot dogs\, salads\, and beverages will be served afterward (freewill offering).\n\n                                                                                                                                                         \n\nThis is a family day not to be missed at the beautiful Durward's Glen.  Tours of the grounds and the historic Log Lodge will be available that day.\n\n \n\nDurward's Glen is located in the Baraboo Bluffs at W11876 McLeisch Road\, Baraboo.  For more information\, call 608-356-8113 or Email us at theglen150@gmail.com or check us out on Facebook or at our website www.durwardsglen.org
X-ALT-DESC;FMTTYPE=text/html:The Corpus Christi Mass and Procession will be held on Sunday\, May 29 at 11:30 AM at Durward&rsquo\;s Glen Retreat and Conference Center.&nbsp\;<br />\n&nbsp\;<br />\nThis is the 103rd year that the feast of Corpus Christi has been celebrated at Durward&#39\;s Glen.&nbsp\; This traditional Catholic &nbsp\;Feast of Corpus Christi dates back to 1230 AD.&nbsp\; The mass will be celebrated at the outdoor Holy Family Altar by Fr. Pedro Escribano\, from Divine Mercy Parish. &nbsp\;&nbsp\;<br />\n&nbsp\;<br />\nMass will be followed by a Eucharistic procession. &nbsp\;The Eucharistic procession will start at the hilltop\, and include 4<sup>th</sup> degree Knights of Columbus (in full dress)\, flower girls\, candles\, incense\, local musicians\, flags\, the crucifix\, and the Blessed Sacrament carried under the decorative canopy.&nbsp\;<br />\n&nbsp\;<br />\nA picnic style lunch of brats\, hot dogs\, salads\, and beverages will be served afterward (freewill offering).<br />\n&nbsp\;&nbsp\;&nbsp\;&nbsp\;&nbsp\;&nbsp\;&nbsp\;&nbsp\;&nbsp\;&nbsp\;&nbsp\;&nbsp\;&nbsp\;&nbsp\;&nbsp\;&nbsp\;&nbsp\;&nbsp\;&nbsp\;&nbsp\;&nbsp\;&nbsp\;&nbsp\;&nbsp\;&nbsp\;&nbsp\;&nbsp\;&nbsp\;&nbsp\;&nbsp\;&nbsp\;&nbsp\;&nbsp\;&nbsp\;&nbsp\;&nbsp\;&nbsp\;&nbsp\;&nbsp\;&nbsp\;&nbsp\;&nbsp\;&nbsp\;&nbsp\;&nbsp\;&nbsp\;&nbsp\;&nbsp\;&nbsp\;&nbsp\;&nbsp\;&nbsp\;&nbsp\;&nbsp\;&nbsp\;&nbsp\;&nbsp\;&nbsp\;&nbsp\;&nbsp\;&nbsp\;&nbsp\;&nbsp\;&nbsp\;&nbsp\;&nbsp\;&nbsp\;&nbsp\;&nbsp\;&nbsp\;&nbsp\;&nbsp\;&nbsp\;&nbsp\;&nbsp\;&nbsp\;&nbsp\;&nbsp\;&nbsp\;&nbsp\;&nbsp\;&nbsp\;&nbsp\;&nbsp\;&nbsp\;&nbsp\;&nbsp\;&nbsp\;&nbsp\;&nbsp\;&nbsp\;&nbsp\;&nbsp\;&nbsp\;&nbsp\;&nbsp\;&nbsp\;&nbsp\;&nbsp\;&nbsp\;&nbsp\;&nbsp\;&nbsp\;&nbsp\;&nbsp\;&nbsp\;&nbsp\;&nbsp\;&nbsp\;&nbsp\;&nbsp\;&nbsp\;&nbsp\;&nbsp\;&nbsp\;&nbsp\;&nbsp\;&nbsp\;&nbsp\;&nbsp\;&nbsp\;&nbsp\;&nbsp\;&nbsp\;&nbsp\;&nbsp\;&nbsp\;&nbsp\;&nbsp\;&nbsp\;&nbsp\;&nbsp\;&nbsp\;&nbsp\;&nbsp\;&nbsp\;&nbsp\;&nbsp\;&nbsp\;&nbsp\;&nbsp\;&nbsp\;&nbsp\;&nbsp\;&nbsp\;&nbsp\;&nbsp\;&nbsp\;&nbsp\;&nbsp\;&nbsp\;&nbsp\;&nbsp\;<br />\nThis is a family day not to be missed at the beautiful Durward&rsquo\;s Glen.&nbsp\; Tours of the grounds and the historic Log Lodge will be available that day.<br />\n&nbsp\;<br />\nDurward&#39\;s Glen is located in the Baraboo Bluffs at W11876 McLeisch Road\, Baraboo.&nbsp\; For more information\, call <a href="tel:608-356-8113" target="_blank">608-356-8113</a> or Email us at <a href="mailto:theglen150@gmail.com">theglen150@gmail.com</a> or check us out on Facebook or at our website <a href="http://www.durwardsglen.org/" target="_blank">www.durwardsglen.org</a>
LOCATION:Durward's Glen W11876 McLeisch Road Baraboo WI 53913
UID:e.1184.8550
SEQUENCE:3
DTSTAMP:20260426T020059Z
URL:http://members.saukprairie.com/events/details/corpus-christi-celebration-05-29-2016-8550
END:VEVENT

END:VCALENDAR
