BEGIN:VCALENDAR
VERSION:2.0
PRODID:-//ChamberMaster//Event Calendar 2.0//EN
METHOD:PUBLISH
X-PUBLISHED-TTL:P3D
REFRESH-INTERVAL:P3D
CALSCALE:GREGORIAN
BEGIN:VEVENT
DTSTART:20190623T160000Z
DTEND:20190623T200000Z
X-MICROSOFT-CDO-ALLDAYEVENT:FALSE
SUMMARY:Corpus Christi Mass & Procession
DESCRIPTION:This is the 106th year Corpus Christi has been observed at Durward's Glen. The mass will be celebrated at the outdoor Holy Family Altar by Fr Pedro Escribano of the Society of Jesus Christ the Priest on Sunday\, June 23\, at 11:00. Following the procession to three holy stations and benediction\, the 4th Degree Knights of Columbus will serve a picnic-style meal. Corpus Christi\, which dates back to 1230 AD\, is a joyful day filled with tradition and fellowship with friends and neighbors. This feast is especially meaningful because it is one time when Our Lord in the Blessed Sacrament is exposed not just to faithful Catholics but to everyone present. It is a day not to be missed at Durward's Glen Retreat Center in the beautiful Baraboo Blufs. Tours available.
X-ALT-DESC;FMTTYPE=text/html:This is the 106th year Corpus Christi has been observed at Durward&#39\;s Glen. The mass will be celebrated at the outdoor Holy Family Altar by Fr Pedro Escribano of the Society of Jesus Christ the Priest on Sunday\, June 23\, at 11:00. Following the procession to three holy stations and benediction\, the 4th Degree Knights of Columbus will serve a picnic-style meal. Corpus Christi\, which dates back to 1230 AD\, is a joyful day filled with tradition and fellowship with friends and neighbors. This feast is especially meaningful because it is one time when Our Lord in the Blessed Sacrament is exposed not just to faithful Catholics but to everyone present. It is a day not to be missed at Durward&rsquo\;s Glen Retreat Center in the beautiful Baraboo Blufs. Tours available.
LOCATION:Durward's Glen W11876 McLeisch Road Baraboo WI 53913
UID:e.1184.22429
SEQUENCE:3
DTSTAMP:20260423T153256Z
URL:http://members.saukprairie.com/events/details/corpus-christi-mass-procession-22429
END:VEVENT

END:VCALENDAR
