BEGIN:VCALENDAR
VERSION:2.0
PRODID:-//ChamberMaster//Event Calendar 2.0//EN
METHOD:PUBLISH
X-PUBLISHED-TTL:P3D
REFRESH-INTERVAL:P3D
CALSCALE:GREGORIAN
BEGIN:VEVENT
DTSTART:20220619T163000Z
DTEND:20220619T200000Z
X-MICROSOFT-CDO-ALLDAYEVENT:FALSE
SUMMARY:Corpus Christi Mass & Procession
DESCRIPTION:This is the 109th year Corpus Christi has been observed at Durward's Glen. \n\n\n\nCelebrate Mass with the Glen at 11:30am beginning in the Chapel and processing to the Altar of the Holy Family and to the Mary Mother of God Grotto! Then enjoy a free potluck lunch served in the Main Hall (can be eaten outside on our beautiful grounds!) Free event: donations warmly welcomed!
X-ALT-DESC;FMTTYPE=text/html:<span style="font-size:16px\;"><span style="font-family:arial\;">This is the 109th year Corpus Christi has been observed at Durward&#39\;s Glen.&nbsp\;<br />\n<br />\n<span style="color: rgb(0\, 0\, 0)\; white-space: pre-wrap\;">Celebrate Mass with the Glen at 11:30am beginning in the Chapel and processing to the Altar of the Holy Family and to the Mary Mother of God Grotto! Then enjoy a free potluck lunch served in the Main Hall (can be eaten outside on our beautiful grounds!) Free event: donations warmly welcomed!</span></span></span>
LOCATION:Durward's Glen W11876 McLeisch Road Baraboo WI 53913
UID:e.1184.27980
SEQUENCE:3
DTSTAMP:20260421T115754Z
URL:http://members.saukprairie.com/events/details/corpus-christi-mass-procession-27980
END:VEVENT

END:VCALENDAR
