BEGIN:VCALENDAR
VERSION:2.0
PRODID:-//ChamberMaster//Event Calendar 2.0//EN
METHOD:PUBLISH
X-PUBLISHED-TTL:P3D
REFRESH-INTERVAL:P3D
CALSCALE:GREGORIAN
BEGIN:VEVENT
DTSTART:20181229T170000Z
DTEND:20181229T183000Z
X-MICROSOFT-CDO-ALLDAYEVENT:FALSE
SUMMARY:Countdown to Noon
DESCRIPTION:Join us for a family-friendly New Year's Eve party as we count down to noon!\n\nYou'll have a great time with games\, crafts\, music\, and snacks!\n\nInvite your friends and their families for a memorable morning.
X-ALT-DESC;FMTTYPE=text/html:<p>Join us for a family-friendly New Year&rsquo\;s Eve party as we count down to noon!</p>\n\n<p>You&rsquo\;ll have a great time with games\, crafts\, music\, and snacks!</p>\n\n<p>Invite your friends and their families for a memorable morning.</p>\n
LOCATION:Sauk City Public Library 515 Water St. Sauk City\, WI\, 53583
UID:e.1184.21481
SEQUENCE:3
DTSTAMP:20260424T020259Z
URL:http://members.saukprairie.com/events/details/countdown-to-noon-12-29-2018-21481
END:VEVENT

END:VCALENDAR
