BEGIN:VCALENDAR
VERSION:2.0
PRODID:-//ChamberMaster//Event Calendar 2.0//EN
METHOD:PUBLISH
X-PUBLISHED-TTL:P3D
REFRESH-INTERVAL:P3D
CALSCALE:GREGORIAN
BEGIN:VEVENT
DTSTART:20221231T173000Z
DTEND:20221231T183000Z
X-MICROSOFT-CDO-ALLDAYEVENT:FALSE
SUMMARY:Countdown to Noon
DESCRIPTION:Celebrate the New Year early with your children.\n\nJoin us for a family-friendly New Year's Eve party with games\, crafts\, music and snacks as we countdown to noon!
X-ALT-DESC;FMTTYPE=text/html:Celebrate the New Year early with your children.<br />\nJoin us for a family-friendly New Year&rsquo\;s Eve party with games\, crafts\, music and snacks as we countdown to noon!
LOCATION:615 Phillips Blvd. Sauk City\, WI 53583
UID:e.1184.29282
SEQUENCE:3
DTSTAMP:20260421T015742Z
URL:http://members.saukprairie.com/events/details/countdown-to-noon-12-31-2022-29282
END:VEVENT

END:VCALENDAR
