BEGIN:VCALENDAR
VERSION:2.0
PRODID:-//ChamberMaster//Event Calendar 2.0//EN
METHOD:PUBLISH
X-PUBLISHED-TTL:P3D
REFRESH-INTERVAL:P3D
CALSCALE:GREGORIAN
BEGIN:VEVENT
DTSTART:20160903T140000Z
DTEND:20160903T220000Z
X-MICROSOFT-CDO-ALLDAYEVENT:FALSE
SUMMARY:Cow Chip Arts and Crafts Fair
DESCRIPTION:Approximately 40\,000 people attend The Wisconsin State Cow Chip Throw each year.  River Arts Inc. is proud to manage the art fair portion of the event and we invite you to visit us at Marion Park the day of the event.  Admission is free.\n\nAre you interested in displaying and selling your handmade arts and crafts at this event in the future?  Deadline for the 2016 art fair has passed but we invite you to submit your artwork for the 2017 art fair (Labor Day weekend).  Download the application on our website\, www.RiverArtsInc.org or call 608-643-5215 for more information.
X-ALT-DESC;FMTTYPE=text/html:<p>Approximately 40\,000 people attend The Wisconsin State Cow Chip Throw each year.&nbsp\; River Arts Inc. is proud to manage the art fair portion of the event and we invite you to visit us at Marion Park the day of the event.&nbsp\; Admission is free.</p>\n\n<p>Are you interested in displaying and selling your handmade arts and crafts at this event in the future?&nbsp\; Deadline for the 2016 art fair has passed but we invite you to submit your artwork for the 2017 art fair (Labor Day weekend).&nbsp\; Download the application on our website\,&nbsp\;<a href="http://www.riverartsinc.org/" style="color: rgb(17\, 85\, 204)\; text-decoration: none\;" target="_blank">www.RiverArtsInc.org</a>&nbsp\;or call&nbsp\;<a href="tel:608-643-5215" style="color: rgb(17\, 85\, 204)\; text-decoration: none\;" target="_blank">608-643-5215</a>&nbsp\;for more information.</p>\n
LOCATION:Marion Park\, on the corner of First Street and Grand Ave\, Prairie du Sac\, WI
UID:e.1184.8863
SEQUENCE:3
DTSTAMP:20260425T193052Z
URL:http://members.saukprairie.com/events/details/cow-chip-arts-and-crafts-fair-09-03-2016-8863
END:VEVENT

END:VCALENDAR
