BEGIN:VCALENDAR
VERSION:2.0
PRODID:-//ChamberMaster//Event Calendar 2.0//EN
METHOD:PUBLISH
X-PUBLISHED-TTL:P3D
REFRESH-INTERVAL:P3D
CALSCALE:GREGORIAN
BEGIN:VEVENT
DTSTART:20220903T140000Z
DTEND:20220903T220000Z
X-MICROSOFT-CDO-ALLDAYEVENT:FALSE
SUMMARY:Cow Chip Arts & Craft Fair
DESCRIPTION:Over the years\, the lighthearted tradition continues! We welcome you to attend the annual Wisconsin State Cow Chip Throw and Festival! The arts and crafts fair is a part of this festival\, which sees over 40\,000 attendees each year.  85+ exhibits ranging from furniture\, lawn decorations\, photography\, ceramics\, quilts\, stained glass\, and much more!
X-ALT-DESC;FMTTYPE=text/html:<span style="color:rgb(59\, 64\, 78)\; font-family:open sans\,helvetica\,arial\,verdana\,sans-serif">Over the years\, the lighthearted tradition continues! We welcome you to attend the annual Wisconsin State Cow Chip Throw and Festival! The arts and crafts fair is a part of this festival\, which sees over 40\,000 attendees each year.&nbsp\;</span>&nbsp\;85+ exhibits ranging from furniture\, lawn decorations\, photography\, ceramics\, quilts\, stained glass\, and much more!
LOCATION:145 1st St\, Prairie Du Sac\, WI 53578
UID:e.1184.28191
SEQUENCE:3
DTSTAMP:20260421T061703Z
URL:http://members.saukprairie.com/events/details/cow-chip-arts-craft-fair-09-03-2022-28191
END:VEVENT

END:VCALENDAR
