BEGIN:VCALENDAR
VERSION:2.0
PRODID:-//ChamberMaster//Event Calendar 2.0//EN
METHOD:PUBLISH
X-PUBLISHED-TTL:P3D
REFRESH-INTERVAL:P3D
CALSCALE:GREGORIAN
BEGIN:VEVENT
DTSTART:20210904T140000Z
DTEND:20210904T220000Z
X-MICROSOFT-CDO-ALLDAYEVENT:FALSE
SUMMARY:Cow Chip Arts & Craft Fair
DESCRIPTION:It's happening! The Cow Chip Arts & Crafts Fair will take place on Saturday\, September 4\, 2021 from 9am-5pm in Marion Park.\n\nFeaturing art and craft vendors in a wide variety of media!\n\nAt this time we are only hosting vendors who were originally juried in to participate in 2020. For vendor updates\, visit www.riverartsinc.org/cow-chip\n\nThis event is only for the Art Fair. For information on the larger Cow Chip Throw Festival\, please visit https://www.wiscowchip.com/\n\nCOVID-19 update:\n\n-Fewer vendors\, wider aisles to allow for social distancing.\n\nRiver Arts Inc will be monitoring and following the latest CDC and Sauk County public health guidelines. This includes the CDC's policy on face masks and social distancing for both vendors and attendees. Please stay tuned for more info
X-ALT-DESC;FMTTYPE=text/html:<div class="kvgmc6g5 cxmmr5t8 oygrvhab hcukyx3x c1et5uql" style="overflow-wrap: break-word\; margin: 0px\; font-family: &quot\;Segoe UI Historic&quot\;\, &quot\;Segoe UI&quot\;\, Helvetica\, Arial\, sans-serif\; color: rgb(5\, 5\, 5)\; font-size: 15px\;">It&rsquo\;s happening! The Cow Chip Arts &amp\; Crafts Fair will take place on Saturday\, September 4\, 2021 from 9am-5pm in Marion Park.</div>\n\n<div class="o9v6fnle cxmmr5t8 oygrvhab hcukyx3x c1et5uql" style="overflow-wrap: break-word\; margin: 0.5em 0px 0px\; font-family: &quot\;Segoe UI Historic&quot\;\, &quot\;Segoe UI&quot\;\, Helvetica\, Arial\, sans-serif\; color: rgb(5\, 5\, 5)\; font-size: 15px\;">Featuring art and craft vendors in a wide variety of media!</div>\n\n<div class="o9v6fnle cxmmr5t8 oygrvhab hcukyx3x c1et5uql" style="overflow-wrap: break-word\; margin: 0.5em 0px 0px\; font-family: &quot\;Segoe UI Historic&quot\;\, &quot\;Segoe UI&quot\;\, Helvetica\, Arial\, sans-serif\; color: rgb(5\, 5\, 5)\; font-size: 15px\;">At this time we are only hosting vendors who were originally juried in to participate in 2020. For vendor updates\, visit&nbsp\;<a class="oajrlxb2 g5ia77u1 qu0x051f esr5mh6w e9989ue4 r7d6kgcz rq0escxv nhd2j8a9 nc684nl6 p7hjln8o kvgmc6g5 cxmmr5t8 oygrvhab hcukyx3x jb3vyjys rz4wbd8a qt6c0cv9 a8nywdso i1ao9s8h esuyzwwr f1sip0of lzcic4wl py34i1dx gpro0wi8" href="http://www.riverartsinc.org/cow-chip?fbclid=IwAR3cOBv_OKPp9dAZsj4FAcmQSgVrbRVY0RCJmeACx1mjZP8xZw9xYllKo6k" rel="nofollow noopener" role="link" style="color: var(--blue-link)\; cursor: pointer\; text-decoration-line: none\; outline: none\; list-style: none\; border-width: 0px\; border-style: initial\; border-color: initial\; padding: 0px\; margin: 0px\; touch-action: manipulation\; background-color: transparent\; text-align: inherit\; display: inline\; -webkit-tap-highlight-color: transparent\; box-sizing: border-box\; font-family: inherit\;" tabindex="0" target="_blank">www.riverartsinc.org/cow-chip</a></div>\n\n<div class="o9v6fnle cxmmr5t8 oygrvhab hcukyx3x c1et5uql" style="overflow-wrap: break-word\; margin: 0.5em 0px 0px\; font-family: &quot\;Segoe UI Historic&quot\;\, &quot\;Segoe UI&quot\;\, Helvetica\, Arial\, sans-serif\; color: rgb(5\, 5\, 5)\; font-size: 15px\;">This event is only for the Art Fair. For information on the larger Cow Chip Throw Festival\, please visit&nbsp\;<a class="oajrlxb2 g5ia77u1 qu0x051f esr5mh6w e9989ue4 r7d6kgcz rq0escxv nhd2j8a9 nc684nl6 p7hjln8o kvgmc6g5 cxmmr5t8 oygrvhab hcukyx3x jb3vyjys rz4wbd8a qt6c0cv9 a8nywdso i1ao9s8h esuyzwwr f1sip0of lzcic4wl py34i1dx gpro0wi8" href="https://www.wiscowchip.com/?fbclid=IwAR3TNGDSP2jg_5N9HSQR2-LNrOSf_FfcTsJDcoyEy7vcH0St4j0S_ICIeBI" rel="nofollow noopener" role="link" style="color: var(--blue-link)\; cursor: pointer\; text-decoration-line: none\; outline: none\; list-style: none\; border-width: 0px\; border-style: initial\; border-color: initial\; padding: 0px\; margin: 0px\; touch-action: manipulation\; background-color: transparent\; text-align: inherit\; display: inline\; -webkit-tap-highlight-color: transparent\; box-sizing: border-box\; font-family: inherit\;" tabindex="0" target="_blank">https://www.wiscowchip.com/</a></div>\n\n<div class="o9v6fnle cxmmr5t8 oygrvhab hcukyx3x c1et5uql" style="overflow-wrap: break-word\; margin: 0.5em 0px 0px\; font-family: &quot\;Segoe UI Historic&quot\;\, &quot\;Segoe UI&quot\;\, Helvetica\, Arial\, sans-serif\; color: rgb(5\, 5\, 5)\; font-size: 15px\;">COVID-19 update:<br />\n-Fewer vendors\, wider aisles to allow for social distancing.</div>\n\n<div class="o9v6fnle cxmmr5t8 oygrvhab hcukyx3x c1et5uql" style="overflow-wrap: break-word\; margin: 0.5em 0px 0px\; font-family: &quot\;Segoe UI Historic&quot\;\, &quot\;Segoe UI&quot\;\, Helvetica\, Arial\, sans-serif\; color: rgb(5\, 5\, 5)\; font-size: 15px\;">River Arts Inc will be monitoring and following the latest CDC and Sauk County public health guidelines. This includes the CDC&rsquo\;s policy on face masks and social distancing for both vendors and attendees. Please stay tuned for more info</div>\n
LOCATION:Marion Park
UID:e.1184.26619
SEQUENCE:3
DTSTAMP:20260421T231049Z
URL:http://members.saukprairie.com/events/details/cow-chip-arts-craft-fair-26619
END:VEVENT

END:VCALENDAR
