BEGIN:VCALENDAR
VERSION:2.0
PRODID:-//ChamberMaster//Event Calendar 2.0//EN
METHOD:PUBLISH
X-PUBLISHED-TTL:P3D
REFRESH-INTERVAL:P3D
CALSCALE:GREGORIAN
BEGIN:VEVENT
DTSTART:20240831T140000Z
DTEND:20240831T220000Z
X-MICROSOFT-CDO-ALLDAYEVENT:FALSE
SUMMARY:Cow Chip Arts & Crafts Fair
DESCRIPTION:Cow Chip Arts & Crafts Fair\n\n\n\nSaturday\, August 31\, 2024 from 9am-5pm!\n\n\n\nOver the years\, the lighthearted tradition continues! We welcome you to attend the Cow Chip Arts & Crafts Fair during the annual Wisconsin State Cow Chip Throw and Festival! This is one of the region's largest events\, and we invite you to submit an application to be a part of it! Our fair hosts 150 vendor spaces\, which guarantees a wide variety of art and craft items for sale!\n\n\n\nCow Chip Arts and Crafts Fair will be held on Saturday\, August 31\, 2024 from 9am-5pm. This one day\, outdoor art fair is held in Marion Park\, 145 1st Prairie du Sac\, WI.
X-ALT-DESC;FMTTYPE=text/html:Cow Chip Arts &amp\; Crafts Fair<br />\n<br />\nSaturday\, August 31\, 2024 from 9am-5pm!<br />\n<br />\nOver the years\, the lighthearted tradition continues! We welcome you to attend the Cow Chip Arts &amp\; Crafts Fair during the annual Wisconsin State Cow Chip Throw and Festival! This is one of the region&rsquo\;s largest events\, and we invite you to submit an application to be a part of it! Our fair hosts 150 vendor spaces\, which guarantees a wide variety of art and craft items for sale!<br />\n<br />\nCow Chip Arts and Crafts Fair will be held on Saturday\, August 31\, 2024 from 9am-5pm. This one day\, outdoor art fair is held in Marion Park\, 145 1st Prairie du Sac\, WI.<br />\n&nbsp\;
LOCATION:Marion Park
UID:e.1184.32862
SEQUENCE:3
DTSTAMP:20260419T175401Z
URL:http://members.saukprairie.com/events/details/cow-chip-arts-crafts-fair-32862
END:VEVENT

END:VCALENDAR
