BEGIN:VCALENDAR
VERSION:2.0
PRODID:-//ChamberMaster//Event Calendar 2.0//EN
METHOD:PUBLISH
X-PUBLISHED-TTL:P3D
REFRESH-INTERVAL:P3D
CALSCALE:GREGORIAN
BEGIN:VEVENT
DTSTART;VALUE=DATE:20181130
DTEND;VALUE=DATE:20181202
TRANSP:TRANSPARENT
X-MICROSOFT-CDO-ALLDAYEVENT:TRUE
SUMMARY:Cozy House Christmas Boutique
DESCRIPTION:Our holiday boutique offers many handmade gifts that are perfect for the upcoming holiday season. some vendors and items included pampered chef\, lularoe\, ceramics\, wood works\, knitting\, jewelry\, quilted items\, seasonings\, handmade crafts and much more!\n\n\n\nFor more information visit: www.facebook.com/jillmassonwimer or call 608-943-9214
X-ALT-DESC;FMTTYPE=text/html:Our holiday boutique offers many handmade gifts that are perfect for the upcoming holiday season. some vendors and items included pampered chef\, lularoe\, ceramics\, wood works\, knitting\, jewelry\, quilted items\, seasonings\, handmade crafts and much more!<br />\n<br />\nFor more information visit: www.facebook.com/jillmassonwimer or call 608-943-9214
LOCATION:7248 Flyhawk Lane Sauk City\, WI 53583
UID:e.1184.21463
SEQUENCE:3
DTSTAMP:20260424T004656Z
URL:http://members.saukprairie.com/events/details/cozy-house-christmas-boutique-21463
END:VEVENT

END:VCALENDAR
