BEGIN:VCALENDAR
VERSION:2.0
PRODID:-//ChamberMaster//Event Calendar 2.0//EN
METHOD:PUBLISH
X-PUBLISHED-TTL:P3D
REFRESH-INTERVAL:P3D
CALSCALE:GREGORIAN
BEGIN:VEVENT
DTSTART:20200208T150000Z
DTEND:20200208T180000Z
X-MICROSOFT-CDO-ALLDAYEVENT:FALSE
SUMMARY:Craft Exchange
DESCRIPTION:Are your craft supplies in need of an update? Come to the library with your extra or unused supplies to mix and match or swap in our Craft Exchange. All crafting supplies are welcome.
X-ALT-DESC;FMTTYPE=text/html:Are your craft supplies in need of an update? Come to the library with your extra or unused supplies to mix and match or swap in our Craft Exchange. All crafting supplies are welcome.
LOCATION:515 Water Street Sauk City\, WI 53583
UID:e.1184.23993
SEQUENCE:3
DTSTAMP:20260423T053453Z
URL:http://members.saukprairie.com/events/details/craft-exchange-23993
END:VEVENT

END:VCALENDAR
