BEGIN:VCALENDAR
VERSION:2.0
PRODID:-//ChamberMaster//Event Calendar 2.0//EN
METHOD:PUBLISH
X-PUBLISHED-TTL:P3D
REFRESH-INTERVAL:P3D
CALSCALE:GREGORIAN
BEGIN:VEVENT
DTSTART:20170114T160000Z
DTEND:20170114T170000Z
X-MICROSOFT-CDO-ALLDAYEVENT:FALSE
SUMMARY:Craft Supplies Exchange
DESCRIPTION:Bring your old supplies and exchange them for something new (to you)! Let this be an opportunity to clean house and become energized for the new year of crafting.\n\n\n\nIf you have any questions on what to bring\, email our Programming Librarian Katrina at katrina@saukcitylibrary.org or call (608) 643-8346.
X-ALT-DESC;FMTTYPE=text/html:Bring your old supplies and exchange them for something new (to you)! Let this be an opportunity to clean house and become energized for the new year of crafting.<br />\n<br />\nIf you have any questions on what to bring\, email our Programming Librarian Katrina at katrina@saukcitylibrary.org or call (608) 643-8346.
LOCATION:Sauk City Public Library 515 Water Street Sauk City\, WI 53583
UID:e.1184.9744
SEQUENCE:3
DTSTAMP:20260425T124355Z
URL:http://members.saukprairie.com/events/details/craft-supplies-exchange-9744
END:VEVENT

END:VCALENDAR
