BEGIN:VCALENDAR
VERSION:2.0
PRODID:-//ChamberMaster//Event Calendar 2.0//EN
METHOD:PUBLISH
X-PUBLISHED-TTL:P3D
REFRESH-INTERVAL:P3D
CALSCALE:GREGORIAN
BEGIN:VEVENT
DTSTART;VALUE=DATE:20170112
DTEND;VALUE=DATE:20170113
TRANSP:TRANSPARENT
X-MICROSOFT-CDO-ALLDAYEVENT:TRUE
SUMMARY:Crafternoon at the Library
DESCRIPTION:Who said you could have too many craft projects going at once? We certainly didn't!\n\nThis space is for everyone who has a passion for cutting\, coloring\, gluing\, stitching\, mending\, and any other crafting. Bring your project along or join the discussion to think of new ones.\n\nColoring pages and tea will be provided.
X-ALT-DESC;FMTTYPE=text/html:<p>Who said you could have too many craft projects going at once? We certainly didn&rsquo\;t!</p>\n\n<p>This space is for everyone who has a passion for cutting\, coloring\, gluing\, stitching\, mending\, and any other crafting. Bring your project along or join the discussion to think of new ones.</p>\n\n<p>Coloring pages and tea will be provided.</p>\n
LOCATION:Sauk City Library 515 Water Street Sauk City\, WI 53583
UID:e.1184.9727
SEQUENCE:3
DTSTAMP:20260425T124418Z
URL:http://members.saukprairie.com/events/details/crafternoon-at-the-library-01-12-2017-9727
END:VEVENT

END:VCALENDAR
