BEGIN:VCALENDAR
VERSION:2.0
PRODID:-//ChamberMaster//Event Calendar 2.0//EN
METHOD:PUBLISH
X-PUBLISHED-TTL:P3D
REFRESH-INTERVAL:P3D
CALSCALE:GREGORIAN
BEGIN:VEVENT
DTSTART:20180221T003000Z
DTEND:20180221T013000Z
X-MICROSOFT-CDO-ALLDAYEVENT:FALSE
SUMMARY:Crafting Kindness for High School students
DESCRIPTION:High school students are invited to join us Tuesday\, February 20 at 6:30 p.m. for "Crafting Kindness" to use your creative skills for a cause.  We will make pet toys and supplies for the Humane Society.  Have fun and spread kindness at the same time! Registration is requested. Event is open to high school students only. Contact Meagan at 643-8318 or mstatzATpdslibrary.org with questions.
X-ALT-DESC;FMTTYPE=text/html:High school students are invited to join us Tuesday\, February 20 at 6:30 p.m. for &ldquo\;Crafting Kindness&rdquo\; to use your creative skills for a cause.&nbsp\; We will make pet toys and supplies for the Humane Society.&nbsp\; Have fun and spread kindness at the same time! Registration is requested. Event is open to high school students only. Contact Meagan at 643-8318 or mstatzATpdslibrary.org with questions.
LOCATION:Ruth Culver Community Library 540 Water Street\, Prairie du Sac
UID:e.1184.14583
SEQUENCE:3
DTSTAMP:20260424T161529Z
URL:http://members.saukprairie.com/events/details/crafting-kindness-for-high-school-students-14583
END:VEVENT

END:VCALENDAR
