BEGIN:VCALENDAR
VERSION:2.0
PRODID:-//ChamberMaster//Event Calendar 2.0//EN
METHOD:PUBLISH
X-PUBLISHED-TTL:P3D
REFRESH-INTERVAL:P3D
CALSCALE:GREGORIAN
BEGIN:VEVENT
DTSTART:20191026T000000Z
DTEND:20191026T020000Z
X-MICROSOFT-CDO-ALLDAYEVENT:FALSE
SUMMARY:Crafts and Drafts: Painted Mason Jars
DESCRIPTION:Add an autumnal twist to this classic d cor staple. Using layers of chalk paint and targeted distressing techniques\, we'll turn these jars into a beautiful fall centerpiece! Each student makes three jars.\n\nCrafts & Drafts is a series of monthly classes based around the "wine and paint night" concept. We just decided to go with something a little more Wisconsin   so we added beer! These fun\, pressure-free classes are a great way to unwind after work\, meet up with friends\, celebrate a special event\, and make a cool project for your home.We encourage you to wear clothes that you don't mind getting dirty\, FYI. Each class lasts two hours\, and includes all necessary supplies\, a class instructor\, and two drink tickets. Come back each month to make a different project!
X-ALT-DESC;FMTTYPE=text/html:<p>Add an autumnal twist to this classic d&eacute\;cor staple. Using layers of chalk paint and targeted distressing techniques\, we&rsquo\;ll turn these jars into a beautiful fall centerpiece! Each student makes three jars.</p>\n\n<p>Crafts &amp\; Drafts is a series of monthly classes based around the &ldquo\;wine and paint night&rdquo\; concept. We just decided to go with something a little more Wisconsin &ndash\; so we added beer! These fun\, pressure-free classes are a great way to unwind after work\, meet up with friends\, celebrate a special event\, and make a cool project for your home.We encourage you to wear clothes that you don&rsquo\;t mind getting dirty\, FYI. Each class lasts two hours\, and includes all necessary supplies\, a class instructor\, and two drink tickets. Come back each month to make a different project!</p>\n
LOCATION:590 Water St\, Prairie du Sac\, WI 53578
UID:e.1184.23590
SEQUENCE:3
DTSTAMP:20260423T095237Z
URL:http://members.saukprairie.com/events/details/crafts-and-drafts-painted-mason-jars-23590
END:VEVENT

END:VCALENDAR
