BEGIN:VCALENDAR
VERSION:2.0
PRODID:-//ChamberMaster//Event Calendar 2.0//EN
METHOD:PUBLISH
X-PUBLISHED-TTL:P3D
REFRESH-INTERVAL:P3D
CALSCALE:GREGORIAN
BEGIN:VEVENT
DTSTART:20200222T010000Z
DTEND:20200222T030000Z
X-MICROSOFT-CDO-ALLDAYEVENT:FALSE
SUMMARY:Crafts & Drafts: Stamp Like a Champ with Chickadiddy Arts
DESCRIPTION:Crafts and Drafts: Stamp Like a Champ with Chickadiddy\n\nFriday\, February 21\, 2020 | 7-9pm | Ages 21+\n\n590 Water St\, Prairie du Sac\, WI 53578\n\nClass Fee: $50/person\n\n \n\n\n	Learn to carve and print your own unique stamp.\n	Create customized hand stamped goods.\n	No experience necessary. In fact\, it's preferred!\n	Enjoy a small group setting for personal attention.\n\n\nMadison based artist Karli Didrickson\, BFA UW-Madison and owner/artist at Chickadiddy\, will demonstrate the basic principles of relief printmaking. Participants will learn how to create and carve an image of their choice into a synthetic rubber block (linocut)\, then learn how to ink and print their image using traditional relief printmaking tools and techniques.\n\nWhat's included?\n\nParticipants will be provided carving tools\, instruction\, and ink to use during the class\, and will take home their original hand carved stamp for additional future use. Each participant will also receive a cotton canvas tote bag to print on and take home. If you are fresh out of funky ideas for your stamp\, no worries! There will be plenty of fun images provided to get you started. We'll also provide two drink tickets per person (beer and malt beverages only\, sorry no wine). \n\nWhat we need from you?\n\nYou are welcome to bring your own additional blank items (stationery\, baby onesie\, t-shirt ) to print on during the class. Any paper goods or fabric item with a flat/tight weave (i.e. cotton\, silk\, jersey\, flannel\, polyester ) will work. It may get messy\, so wear clothing you do not mind getting stained.\n\nCrafts & Drafts is a series of monthly classes based around the "wine and paint night" concept. We just decided to go with something a little more Wisconsin   so we added beer! These fun\, pressure-free classes are a great way to unwind after work\, meet up with friends\, celebrate a special event\, and make a cool project for your home.We encourage you to wear clothes that you don't mind getting dirty\, FYI. Each class lasts two hours\, and includes all necessary supplies\, a class instructor\, and two drink tickets. Come back each month to make a different project!
X-ALT-DESC;FMTTYPE=text/html:<p><strong>Crafts and Drafts: Stamp Like a Champ with Chickadiddy</strong></p>\n\n<p><strong>Friday\, February 21\, 2020 | 7-9pm | Ages 21+</strong></p>\n\n<p><strong>590 Water St\, Prairie du Sac\, WI 53578</strong></p>\n\n<p>Class Fee: $50/person<br />\n&nbsp\;</p>\n\n<ul>\n	<li>Learn to carve and print your own unique stamp.</li>\n	<li>Create customized hand stamped goods.</li>\n	<li>No experience necessary. In fact\, it&rsquo\;s preferred!</li>\n	<li>Enjoy a small group setting for personal attention.</li>\n</ul>\n\n<p>Madison based artist Karli Didrickson\, BFA UW-Madison and owner/artist at Chickadiddy\, will demonstrate the basic principles of relief printmaking. Participants will learn how to create and carve an image of their choice into a synthetic rubber block (linocut)\, then learn how to ink and print their image using traditional relief printmaking tools and techniques.</p>\n\n<p><strong>What&rsquo\;s included?</strong></p>\n\n<p>Participants will be provided carving tools\, instruction\, and ink to use during the class\, and will take home their original hand carved stamp for additional future use. Each participant will also receive a cotton canvas tote bag to print on and take home. If you are fresh out of funky ideas for your stamp\, no worries! There will be plenty of fun images provided to get you started. We&rsquo\;ll also provide two drink tickets per person (beer and malt beverages only\, sorry no wine).&nbsp\;</p>\n\n<p><strong>What we need from you?</strong></p>\n\n<p>You are welcome to bring your own additional blank items (stationery\, baby onesie\, t-shirt&hellip\;) to print on during the class. Any paper goods or fabric item with a flat/tight weave (i.e. cotton\, silk\, jersey\, flannel\, polyester&hellip\;) will work. It may get messy\, so wear clothing you do not mind getting stained.</p>\n\n<p>Crafts &amp\; Drafts is a series of monthly classes based around the &ldquo\;wine and paint night&rdquo\; concept. We just decided to go with something a little more Wisconsin &ndash\; so we added beer! These fun\, pressure-free classes are a great way to unwind after work\, meet up with friends\, celebrate a special event\, and make a cool project for your home.We encourage you to wear clothes that you don&rsquo\;t mind getting dirty\, FYI. Each class lasts two hours\, and includes all necessary supplies\, a class instructor\, and two drink tickets. Come back each month to make a different project!</p>\n
LOCATION:590 Water St\, Prairie du Sac\, WI 53578
UID:e.1184.23984
SEQUENCE:3
DTSTAMP:20260423T041308Z
URL:http://members.saukprairie.com/events/details/crafts-drafts-stamp-like-a-champ-with-chickadiddy-arts-23984
END:VEVENT

END:VCALENDAR
