BEGIN:VCALENDAR
VERSION:2.0
PRODID:-//ChamberMaster//Event Calendar 2.0//EN
METHOD:PUBLISH
X-PUBLISHED-TTL:P3D
REFRESH-INTERVAL:P3D
CALSCALE:GREGORIAN
BEGIN:VEVENT
DTSTART:20200719T150000Z
DTEND:20200719T200000Z
X-MICROSOFT-CDO-ALLDAYEVENT:FALSE
SUMMARY:Crafts for Paws
DESCRIPTION:Crafts for Paws is an outdoor craft & vendor market located at Meyer Oak Grove Park in Sauk City\, WI on Sunday\, July 19th from 10 am to 3 pm. It will feature local crafters\, vendors\, and businesses. In addition\, there will be an opportunity to meet some of their Guide Dogs in training\, learn how you can volunteer\, plus take a chance in our huge raffle.
X-ALT-DESC;FMTTYPE=text/html:<span style="color: rgb(5\, 5\, 5)\; font-family: &quot\;Segoe UI Historic&quot\;\, &quot\;Segoe UI&quot\;\, Helvetica\, Arial\, sans-serif\; font-size: 15px\;">Crafts for Paws is an outdoor craft &amp\; vendor market located at Meyer Oak Grove Park in Sauk City\, WI on Sunday\, July 19th from 10 am to 3 pm. It will feature local crafters\, vendors\, and businesses. In addition\, there will be an opportunity to meet some of their Guide Dogs in training\, learn how you can volunteer\, plus take a chance in our huge raffle.</span>
LOCATION:Meyer Oak Grove Park
UID:e.1184.26065
SEQUENCE:3
DTSTAMP:20260422T194634Z
URL:http://members.saukprairie.com/events/details/crafts-for-paws-26065
END:VEVENT

END:VCALENDAR
