BEGIN:VCALENDAR
VERSION:2.0
PRODID:-//ChamberMaster//Event Calendar 2.0//EN
METHOD:PUBLISH
X-PUBLISHED-TTL:P3D
REFRESH-INTERVAL:P3D
CALSCALE:GREGORIAN
BEGIN:VEVENT
DTSTART:20220612T150000Z
DTEND:20220612T200000Z
X-MICROSOFT-CDO-ALLDAYEVENT:FALSE
SUMMARY:Crafts for Paws Outdoor Market
DESCRIPTION:3rd Annual Crafts for Paws Outdoor Market to benefit OccuPaws Guide Dogs. This FREE outdoor market will feature local crafters\, artist and vendors. Event takes place on Sunday\, June 12th AND Sunday August 21st from 10 am to 3 pm at Meyer Oak Grove Park in Sauk City. The event will feature more than 60 booths to shop from\, a huge raffle\, concessions and a change to meet some future guide dogs. The event and parking are all free. Learn more about our June event at: https://www.facebook.com/events/627999475144628
X-ALT-DESC;FMTTYPE=text/html:3rd Annual Crafts for Paws Outdoor Market to benefit OccuPaws Guide Dogs. This FREE outdoor market will feature local crafters\, artist and vendors. Event takes place on Sunday\, June 12th AND Sunday August 21st from 10 am to 3 pm at Meyer Oak Grove Park in Sauk City. The event will feature more than 60 booths to shop from\, a huge raffle\, concessions and a change to meet some future guide dogs. The event and parking are all free. Learn more about our June event at: https://www.facebook.com/events/627999475144628
LOCATION:Meyer Oak Grove Park
UID:e.1184.27126
SEQUENCE:3
DTSTAMP:20260421T120445Z
URL:http://members.saukprairie.com/events/details/crafts-for-paws-outdoor-market-27126
END:VEVENT

END:VCALENDAR
