BEGIN:VCALENDAR
VERSION:2.0
PRODID:-//ChamberMaster//Event Calendar 2.0//EN
METHOD:PUBLISH
X-PUBLISHED-TTL:P3D
REFRESH-INTERVAL:P3D
CALSCALE:GREGORIAN
BEGIN:VEVENT
DTSTART:20191120T203000Z
DTEND:20191120T213000Z
X-MICROSOFT-CDO-ALLDAYEVENT:FALSE
SUMMARY:Cranes: Discover and Dance
DESCRIPTION:Discover cranes at the Ruth Culver Community Library Wednesday\, November 20 at 2:30 p.m.  The International Crane Foundation will share about how they work to raise endangered Whooping Cranes for release into the wild. Participate in activities and learn to dance like a crane! This Early Release Wednesday event is appropriate for children in grades K-5. Contact Beth at 643-8318 with questions.
X-ALT-DESC;FMTTYPE=text/html:Discover cranes at the Ruth Culver Community Library Wednesday\, November 20 at 2:30 p.m.&nbsp\; The International Crane Foundation will share about how they work to raise endangered Whooping Cranes for release into the wild. Participate in activities and learn to dance like a crane! This Early Release Wednesday event is appropriate for children in grades K-5. Contact Beth at 643-8318 with questions.
LOCATION:Ruth Culver Community Library 540 Water Street\, Prairie du Sac
UID:e.1184.23151
SEQUENCE:3
DTSTAMP:20260423T083133Z
URL:http://members.saukprairie.com/events/details/cranes-discover-and-dance-23151
END:VEVENT

END:VCALENDAR
