BEGIN:VCALENDAR
VERSION:2.0
PRODID:-//ChamberMaster//Event Calendar 2.0//EN
METHOD:PUBLISH
X-PUBLISHED-TTL:P3D
REFRESH-INTERVAL:P3D
CALSCALE:GREGORIAN
BEGIN:VEVENT
DTSTART;VALUE=DATE:20240217
DTEND;VALUE=DATE:20240219
TRANSP:TRANSPARENT
X-MICROSOFT-CDO-ALLDAYEVENT:TRUE
SUMMARY:Create & Collaborate: Oil & Cold Wax Retreat with Rick Ross
DESCRIPTION:590 Water St\, Prairie du Sac\, WI 53578\n\nSat-Sun\, Feb 17-18\, 2024 | 8-4pm both days | Deadline to register: 2/15/24\n\n$125/person. See below for what supplies to bring\n\n \n\n"I can do things you cannot\, you can do things I cannot\; together we can do great things."   Mother Teresa\n\n\n\n\n\n\n\n\nJoin with other artists for two days of working with cold wax medium. This open exploration is for anyone that has taken previous cold wax classes and wants to come together and share ideas\, tips\, tricks\, and community. This is not a guided\, instructional workshop\; instead it is a gathering time and space for artists to connect. Students may start new paintings or work on pieces already under way.  No materials provided\, so bring your own.  While this is not an instructional session\, Rick will be available to share ideas and techniques and answer questions.
X-ALT-DESC;FMTTYPE=text/html:<div>\n<div>\n<div>\n<div>\n<div>\n<div>\n<p><strong>590 Water St\, Prairie du Sac\, WI 53578</strong></p>\n\n<p><strong>Sat-Sun\, Feb 17-18\, 2024 | 8-4pm both days</strong>&nbsp\;| Deadline to register: 2/15/24</p>\n\n<p><strong>$125/person</strong>. See below for what supplies to bring<br />\n&nbsp\;</p>\n\n<p>&ldquo\;I can do things you cannot\, you can do things I cannot\; together we can do great things.&rdquo\; &ndash\;&nbsp\;<strong>Mother Teresa</strong></p>\n</div>\n</div>\n</div>\n</div>\n</div>\n</div>\n\n<div>\n<p>Join with other artists for two days of working with cold wax medium. This open exploration is for anyone that has taken previous cold wax classes and wants to come together and share ideas\, tips\, tricks\, and community. This is not a guided\, instructional workshop\; instead it is a gathering time and space for artists to connect. Students may start new paintings or work on pieces already under way.&nbsp\; No materials provided\, so bring your own.&nbsp\; While this is not an instructional session\, Rick will be available to share ideas and techniques and answer questions.</p>\n</div>\n
LOCATION:
UID:e.1184.31537
SEQUENCE:3
DTSTAMP:20260420T003711Z
URL:http://members.saukprairie.com/events/details/create-collaborate-oil-cold-wax-retreat-with-rick-ross-02-17-2024-31537
END:VEVENT

END:VCALENDAR
