BEGIN:VCALENDAR
VERSION:2.0
PRODID:-//ChamberMaster//Event Calendar 2.0//EN
METHOD:PUBLISH
X-PUBLISHED-TTL:P3D
REFRESH-INTERVAL:P3D
CALSCALE:GREGORIAN
BEGIN:VEVENT
DTSTART:20230218T150000Z
DTEND:20230218T220000Z
X-MICROSOFT-CDO-ALLDAYEVENT:FALSE
SUMMARY:Create & Collaborate: Oil & Cold Wax Retreat with Rick Ross
DESCRIPTION:Join with other artists for two days of working with cold wax medium. This open exploration is for anyone that has taken previous cold wax classes and wants to come together and share ideas\, tips\, tricks\, and community. This is not a guided\, instructional workshop\; instead it is a gathering time and space for artists to connect. Students may start new paintings or work on pieces already under way.  No materials provided\, so bring your own.  While this is not an instructional session\, Rick will be available to share ideas and techniques and answer questions.
X-ALT-DESC;FMTTYPE=text/html:<p>Join with other artists for two days of working with cold wax medium. This open exploration is for anyone that has taken previous cold wax classes and wants to come together and share ideas\, tips\, tricks\, and community. This is not a guided\, instructional workshop\; instead it is a gathering time and space for artists to connect. Students may start new paintings or work on pieces already under way.&nbsp\; No materials provided\, so bring your own.&nbsp\; While this is not an instructional session\, Rick will be available to share ideas and techniques and answer questions.&nbsp\;&nbsp\;</p>\n
LOCATION:590 Water St\, Prairie du Sac\, WI 53578
UID:e.1184.28213
SEQUENCE:3
DTSTAMP:20260420T180512Z
URL:http://members.saukprairie.com/events/details/create-collaborate-oil-cold-wax-retreat-with-rick-ross-28213
END:VEVENT

END:VCALENDAR
