BEGIN:VCALENDAR
VERSION:2.0
PRODID:-//ChamberMaster//Event Calendar 2.0//EN
METHOD:PUBLISH
X-PUBLISHED-TTL:P3D
REFRESH-INTERVAL:P3D
CALSCALE:GREGORIAN
BEGIN:VEVENT
DTSTART:20281026T230000Z
DTEND:20281027T000000Z
X-MICROSOFT-CDO-ALLDAYEVENT:FALSE
SUMMARY:Create Your Calm | Mindful Painting Class
DESCRIPTION:Take a break from your busy week and join us for a relaxing Mindful Painting Class at Serenity Art Gallery.  \n\nHeld every Thursday at 6 PM\, this class offers a peaceful\, stress-relieving environment where you can slow down\, create\, and unwind no experience necessary.\n\n  Location: Serenity Art Gallery\, 725 Water St.\, Sauk City\n\n  Register: Call 608-370-7074\n\nCome create your calm and enjoy a gentle\, creative escape.
X-ALT-DESC;FMTTYPE=text/html:<p data-end="155" data-start="41">Take a break from your busy week and join us for a relaxing <strong data-end="127" data-start="101">Mindful Painting Class</strong> at Serenity Art Gallery. &#127912\;</p>\n\n<p data-end="313" data-start="157">Held every Thursday at 6 PM\, this class offers a peaceful\, stress-relieving environment where you can slow down\, create\, and unwind&mdash\;no experience necessary.</p>\n\n<p data-end="417" data-start="315">&#128205\; <strong data-end="331" data-start="318">Location:</strong> Serenity Art Gallery\, 725 Water St.\, Sauk City<br data-end="381" data-start="378" />\n&#128222\; <strong data-end="397" data-start="384">Register:</strong> Call 608-370-7074</p>\n\n<p data-end="477" data-is-last-node="" data-is-only-node="" data-start="419">Come create your calm and enjoy a gentle\, creative escape.</p>\n
LOCATION:
UID:e.1184.38479
SEQUENCE:3
DTSTAMP:20260422T023914Z
URL:http://members.saukprairie.com/events/details/create-your-calm-mindful-painting-class-10-26-2028-38479
END:VEVENT

END:VCALENDAR
