BEGIN:VCALENDAR
VERSION:2.0
PRODID:-//ChamberMaster//Event Calendar 2.0//EN
METHOD:PUBLISH
X-PUBLISHED-TTL:P3D
REFRESH-INTERVAL:P3D
CALSCALE:GREGORIAN
BEGIN:VEVENT
DTSTART:20180725T180000Z
DTEND:20180725T190000Z
X-MICROSOFT-CDO-ALLDAYEVENT:FALSE
SUMMARY:Cripple Creek Cloggers Presentation
DESCRIPTION:Come on down to the library and learn about this popular folk dance and it's history!
X-ALT-DESC;FMTTYPE=text/html:<p>Come&nbsp\;on&nbsp\;down&nbsp\;to&nbsp\;the&nbsp\;library&nbsp\;and&nbsp\;learn&nbsp\;about&nbsp\;this&nbsp\;popular&nbsp\;folk&nbsp\;dance&nbsp\;and&nbsp\;it&#39\;s&nbsp\;history!</p>\n
LOCATION:515 Water St Sauk City\, WI 53583
UID:e.1184.20432
SEQUENCE:3
DTSTAMP:20260424T082457Z
URL:http://members.saukprairie.com/events/details/cripple-creek-cloggers-presentation-20432
END:VEVENT

END:VCALENDAR
