BEGIN:VCALENDAR
VERSION:2.0
PRODID:-//ChamberMaster//Event Calendar 2.0//EN
METHOD:PUBLISH
X-PUBLISHED-TTL:P3D
REFRESH-INTERVAL:P3D
CALSCALE:GREGORIAN
BEGIN:VEVENT
DTSTART:20250219T000000Z
DTEND:20250219T013000Z
X-MICROSOFT-CDO-ALLDAYEVENT:FALSE
SUMMARY:Crochet with Christine: Worry Worms Teen edition
DESCRIPTION:WORM ALERT! Worry worms are small\, handmade crocheted creatures that are not only adorable but also serve as a comforting tool to express and manage worries. The crochet skills taught are beginner-friendly\, so no prior experience is necessary. Yarn\, crochet hooks\, and pattern guides will be supplied but you are welcome to bring materials from home!\n\nRegistration is required. Register on our website\, by phone\, or at the library. Geared for ages 12-17.
X-ALT-DESC;FMTTYPE=text/html:WORM ALERT! Worry worms are small\, handmade crocheted creatures that are not only adorable but also serve as a comforting tool to express and manage worries. The crochet skills taught are beginner-friendly\, so no prior experience is necessary. Yarn\, crochet hooks\, and pattern guides will be supplied but you are welcome to bring materials from home!<br />\nRegistration is required. Register on our website\, by phone\, or at the library. Geared for ages 12-17.
LOCATION:George Culver Community Library - Sauk City
UID:e.1184.34741
SEQUENCE:3
DTSTAMP:20260419T122036Z
URL:http://members.saukprairie.com/events/details/crochet-with-christine-worry-worms-teen-edition-34741
END:VEVENT

END:VCALENDAR
