BEGIN:VCALENDAR
VERSION:2.0
PRODID:-//ChamberMaster//Event Calendar 2.0//EN
METHOD:PUBLISH
X-PUBLISHED-TTL:P3D
REFRESH-INTERVAL:P3D
CALSCALE:GREGORIAN
BEGIN:VEVENT
DTSTART:20250218T220000Z
DTEND:20250219T000000Z
X-MICROSOFT-CDO-ALLDAYEVENT:FALSE
SUMMARY:Crochet with Christine: Worry Worms Tween Edition
DESCRIPTION:Interested in crochet? Worry worms are small\, handmade crocheted creatures that are not only adorable but also serve as a comforting tool to express and manage worries. The crochet skills taught are beginner-friendly\, so no prior experience is necessary. Yarn\, crochet hooks\, and pattern guides will be supplied but you are welcome to bring materials from home!\n\nRegistration is required. Register on our website\, by phone\, or at the library. Geared for ages 8-11.
X-ALT-DESC;FMTTYPE=text/html:Interested in crochet? Worry worms are small\, handmade crocheted creatures that are not only adorable but also serve as a comforting tool to express and manage worries. The crochet skills taught are beginner-friendly\, so no prior experience is necessary. Yarn\, crochet hooks\, and pattern guides will be supplied but you are welcome to bring materials from home!<br />\nRegistration is required. Register on our website\, by phone\, or at the library. Geared for ages 8-11.
LOCATION:George Culver Community Library - Sauk City
UID:e.1184.34742
SEQUENCE:3
DTSTAMP:20260419T133128Z
URL:http://members.saukprairie.com/events/details/crochet-with-christine-worry-worms-tween-edition-34742
END:VEVENT

END:VCALENDAR
