BEGIN:VCALENDAR
VERSION:2.0
PRODID:-//ChamberMaster//Event Calendar 2.0//EN
METHOD:PUBLISH
X-PUBLISHED-TTL:P3D
REFRESH-INTERVAL:P3D
CALSCALE:GREGORIAN
BEGIN:VEVENT
DTSTART:20181023T233000Z
DTEND:20181024T003000Z
X-MICROSOFT-CDO-ALLDAYEVENT:FALSE
SUMMARY:CSAs with Heidi Accola
DESCRIPTION:Heidi Accola will join us at the Ruth Culver Community Library Tuesday\, October 23 at 6:30 p.m. to share her experiences running Roots & Shoots\, a CSA (Community Supported Agriculture) tucked into the bluff land between Baraboo and Prairie du Sac. Sponsored by the Friends of the Ruth Culver Community Library.
X-ALT-DESC;FMTTYPE=text/html:Heidi Accola will join us at the Ruth Culver Community Library Tuesday\, October 23 at 6:30 p.m. to share her experiences running Roots &amp\; Shoots\, a CSA (Community Supported Agriculture) tucked into the bluff land between Baraboo and Prairie du Sac. Sponsored by the Friends of the Ruth Culver Community Library.
LOCATION:Ruth Culver Community Library 540 Water Street\, Prairie du Sac
UID:e.1184.20937
SEQUENCE:3
DTSTAMP:20260424T033624Z
URL:http://members.saukprairie.com/events/details/csas-with-heidi-accola-20937
END:VEVENT

END:VCALENDAR
