BEGIN:VCALENDAR
VERSION:2.0
PRODID:-//ChamberMaster//Event Calendar 2.0//EN
METHOD:PUBLISH
X-PUBLISHED-TTL:P3D
REFRESH-INTERVAL:P3D
CALSCALE:GREGORIAN
BEGIN:VEVENT
DTSTART:20220917T210000Z
DTEND:20220918T000000Z
X-MICROSOFT-CDO-ALLDAYEVENT:FALSE
SUMMARY:Cub Scout Pack 373 Recruitment Night
DESCRIPTION:Come anytime between 4-7pm to learn more about the Cub Scout program\, join the local Pack\, and design and launch your own water bottle rocket! Boys and girls entering grades K-5 welcome.
X-ALT-DESC;FMTTYPE=text/html:Come anytime between 4-7pm to learn more about the Cub Scout program\, join the local Pack\, and design and launch your own water bottle rocket! Boys and girls entering grades K-5 welcome.
LOCATION:Meyer Oak Grove Park
UID:e.1184.28656
SEQUENCE:3
DTSTAMP:20260421T061612Z
URL:http://members.saukprairie.com/events/details/cub-scout-pack-373-recruitment-night-09-17-2022-28656
END:VEVENT

END:VCALENDAR
