BEGIN:VCALENDAR
VERSION:2.0
PRODID:-//ChamberMaster//Event Calendar 2.0//EN
METHOD:PUBLISH
X-PUBLISHED-TTL:P3D
REFRESH-INTERVAL:P3D
CALSCALE:GREGORIAN
BEGIN:VEVENT
DTSTART:20220515T200000Z
DTEND:20220515T220000Z
X-MICROSOFT-CDO-ALLDAYEVENT:FALSE
SUMMARY:Cub Scout Recruitment
DESCRIPTION:Come learn about the Cub Scout Program and join our local Sauk Prairie Pack! All children (boys and girls)\, currently in grades K-5 are welcome!
X-ALT-DESC;FMTTYPE=text/html:Come learn about the Cub Scout Program and join our local Sauk Prairie Pack! All children (boys and girls)\, currently in grades K-5 are welcome!
LOCATION:Meyer Oak Grove Park
UID:e.1184.27658
SEQUENCE:3
DTSTAMP:20260421T120556Z
URL:http://members.saukprairie.com/events/details/cub-scout-recruitment-27658
END:VEVENT

END:VCALENDAR
