BEGIN:VCALENDAR
VERSION:2.0
PRODID:-//ChamberMaster//Event Calendar 2.0//EN
METHOD:PUBLISH
X-PUBLISHED-TTL:P3D
REFRESH-INTERVAL:P3D
CALSCALE:GREGORIAN
BEGIN:VEVENT
DTSTART:20180910T233000Z
DTEND:20180911T003000Z
X-MICROSOFT-CDO-ALLDAYEVENT:FALSE
SUMMARY:Cub Scout Recruitment Night
DESCRIPTION:Come Join Pack 373 and learn more about Cub Scouts. Boys & Girls in grades K-5th are welcome to attend
X-ALT-DESC;FMTTYPE=text/html:Come Join Pack 373 and learn more about Cub Scouts. Boys &amp\; Girls in grades K-5th are welcome to attend
LOCATION:St. John's Church 100 Oak St. Prairie Du Sac\, WI
UID:e.1184.20970
SEQUENCE:3
DTSTAMP:20260424T064008Z
URL:http://members.saukprairie.com/events/details/cub-scout-recruitment-night-20970
END:VEVENT

END:VCALENDAR
