BEGIN:VCALENDAR
VERSION:2.0
PRODID:-//ChamberMaster//Event Calendar 2.0//EN
METHOD:PUBLISH
X-PUBLISHED-TTL:P3D
REFRESH-INTERVAL:P3D
CALSCALE:GREGORIAN
BEGIN:VEVENT
DTSTART:20230513T210000Z
DTEND:20230513T230000Z
X-MICROSOFT-CDO-ALLDAYEVENT:FALSE
SUMMARY:Cub Scout Spring Recruitment
DESCRIPTION:Join us at your convenience to learn more about the Cub Scout program\, play some games\, and register to join the Sauk Prairie pack! All youth (boys and girls) are welcome\, who will be in grades K-5 for the 2023-2024 school year. For older youth (grade 6 through 18 years old)\, representatives from the local Troops will be available to discuss the Scouts\, BSA program.
X-ALT-DESC;FMTTYPE=text/html:Join us at your convenience to learn more about the Cub Scout program\, play some games\, and register to join the Sauk Prairie pack! All youth (boys and girls) are welcome\, who will be in grades K-5 for the 2023-2024 school year. For older youth (grade 6 through 18 years old)\, representatives from the local Troops will be available to discuss the Scouts\, BSA program.
LOCATION:Meyer Oak Grove Park
UID:e.1184.30738
SEQUENCE:3
DTSTAMP:20260420T131742Z
URL:http://members.saukprairie.com/events/details/cub-scout-spring-recruitment-30738
END:VEVENT

END:VCALENDAR
