BEGIN:VCALENDAR
VERSION:2.0
PRODID:-//ChamberMaster//Event Calendar 2.0//EN
METHOD:PUBLISH
X-PUBLISHED-TTL:P3D
REFRESH-INTERVAL:P3D
CALSCALE:GREGORIAN
BEGIN:VEVENT
DTSTART:20210508T200000Z
DTEND:20210508T220000Z
X-MICROSOFT-CDO-ALLDAYEVENT:FALSE
SUMMARY:Cub Scouts Pack 373 Recruitment Night
DESCRIPTION:The Sauk Prairie area Cub Scouts Pack 373 is holding an official "Recruitment Night" for new scouts to join our annual program through the Boy Scouts of America! The Cub Scout program is open to boys and girls in grades K-5\, with the goal of preparing young people to make ethical and moral choices over their lifetimes by instilling in them the values of the Scout Oath and Law. Activities include crafts\, STEM\, physical exercise\, and more! The official program runs Sept-early June (3 meetings/month)\, with additional/optional events over the summer and throughout the year. National registration is $120/year (Jan-Dec)\, with annual local fundraising to cover pack costs for events and supplies. The program is entirely volunteer-run. 1 adult is required to attend all meetings with the scout and to help with pack leadership and activities as needed. Come to this event to learn more\, ask questions\, and apply to join!
X-ALT-DESC;FMTTYPE=text/html:The Sauk Prairie area Cub Scouts Pack 373 is holding an official &quot\;Recruitment Night&quot\; for new scouts to join our annual program through the Boy Scouts of America! The Cub Scout program is open to boys and girls in grades K-5\, with the goal of preparing young people to make ethical and moral choices over their lifetimes by instilling in them the values of the Scout Oath and Law. Activities include crafts\, STEM\, physical exercise\, and more! The official program runs Sept-early June (3 meetings/month)\, with additional/optional events over the summer and throughout the year. National registration is $120/year (Jan-Dec)\, with annual local fundraising to cover pack costs for events and supplies. The program is entirely volunteer-run. 1 adult is required to attend all meetings with the scout and to help with pack leadership and activities as needed. Come to this event to learn more\, ask questions\, and apply to join!
LOCATION:Sauk City Riverfront Park
UID:e.1184.26609
SEQUENCE:3
DTSTAMP:20260422T051607Z
URL:http://members.saukprairie.com/events/details/cub-scouts-pack-373-recruitment-night-26609
END:VEVENT

END:VCALENDAR
